BEGIN:VCALENDAR
VERSION:2.0
PRODID:-//The Living Coast Discovery Center - ECPv6.15.0//NONSGML v1.0//EN
CALSCALE:GREGORIAN
METHOD:PUBLISH
X-WR-CALNAME:The Living Coast Discovery Center
X-ORIGINAL-URL:https://www.thelivingcoast.org
X-WR-CALDESC:Events for The Living Coast Discovery Center
REFRESH-INTERVAL;VALUE=DURATION:PT1H
X-Robots-Tag:noindex
X-PUBLISHED-TTL:PT1H
BEGIN:VTIMEZONE
TZID:America/Los_Angeles
BEGIN:DAYLIGHT
TZOFFSETFROM:-0800
TZOFFSETTO:-0700
TZNAME:PDT
DTSTART:20210314T100000
END:DAYLIGHT
BEGIN:STANDARD
TZOFFSETFROM:-0700
TZOFFSETTO:-0800
TZNAME:PST
DTSTART:20211107T090000
END:STANDARD
END:VTIMEZONE
BEGIN:VEVENT
DTSTART;TZID=America/Los_Angeles:20210801T140000
DTEND;TZID=America/Los_Angeles:20210801T150000
DTSTAMP:20260425T074405
CREATED:20201012T181301Z
LAST-MODIFIED:20210616T205818Z
UID:10004416-1627826400-1627830000@www.thelivingcoast.org
SUMMARY:Virtual Compost Workshop
DESCRIPTION:Join Composter Katharine and learn the basics of how to start your own compost pile. Turn your food waste into nutrient-rich soil. \nOn-site compost workshops are held every Sunday at the Living Coast and are free with admission. \nVirtual workshops are held via Zoom on the following Sundays: \nJul 4\, 2021 02:00 PMAug 1\, 2021 02:00 PMSep 5\, 2021 02:00 PM \nRegister HERE. \n\n\n\nVirtual workshops are free to attend thanks to the City of Chula Vista. \n\n\n\n 
URL:https://www.thelivingcoast.org/programs-events-upcoming-events/virtual-compost-workshop/2021-08-01/
LOCATION:Zoom
ATTACH;FMTTYPE=image/png:https://www.thelivingcoast.org/wp-content/uploads/2020/10/Compost-workshops.png
END:VEVENT
BEGIN:VEVENT
DTSTART;TZID=America/Los_Angeles:20210807T160000
DTEND;TZID=America/Los_Angeles:20210807T193000
DTSTAMP:20260425T074405
CREATED:20210616T204253Z
LAST-MODIFIED:20210709T184802Z
UID:10004424-1628352000-1628364600@www.thelivingcoast.org
SUMMARY:Farm To Bay 2021
DESCRIPTION:What’s better than a party with animals? How about a party with animals\, food\, drink\, music\, and friends! We’re excited to announce that Farm to Bay 2021 will be an in-person event held at limited capacity. \nVisit thelivingcoast.org/farmtobay for updates and to purchase tickets.
URL:https://www.thelivingcoast.org/programs-events-upcoming-events/farm-to-bay-2021/
CATEGORIES:Farm to Bay
ATTACH;FMTTYPE=image/jpeg:https://www.thelivingcoast.org/wp-content/uploads/2021/07/FarmtoBay-Header_Page_1-copy.jpg
END:VEVENT
END:VCALENDAR