BEGIN:VCALENDAR
VERSION:2.0
PRODID:-//The Living Coast Discovery Center - ECPv6.15.0//NONSGML v1.0//EN
CALSCALE:GREGORIAN
METHOD:PUBLISH
X-WR-CALNAME:The Living Coast Discovery Center
X-ORIGINAL-URL:https://www.thelivingcoast.org
X-WR-CALDESC:Events for The Living Coast Discovery Center
REFRESH-INTERVAL;VALUE=DURATION:PT1H
X-Robots-Tag:noindex
X-PUBLISHED-TTL:PT1H
BEGIN:VTIMEZONE
TZID:America/Los_Angeles
BEGIN:DAYLIGHT
TZOFFSETFROM:-0800
TZOFFSETTO:-0700
TZNAME:PDT
DTSTART:20230312T100000
END:DAYLIGHT
BEGIN:STANDARD
TZOFFSETFROM:-0700
TZOFFSETTO:-0800
TZNAME:PST
DTSTART:20231105T090000
END:STANDARD
END:VTIMEZONE
BEGIN:VEVENT
DTSTART;TZID=America/Los_Angeles:20231022T103000
DTEND;TZID=America/Los_Angeles:20231022T110000
DTSTAMP:20260425T062939
CREATED:20230801T190552Z
LAST-MODIFIED:20250228T171230Z
UID:10005024-1697970600-1697972400@www.thelivingcoast.org
SUMMARY:Eagle Presentation
DESCRIPTION:Join us at Eagle Mesa to learn about Betsy\, the bald eagle\, and Dorado\, the golden eagle! \nThese talks occur Wednesday through Sunday at 10:30 AM.
URL:https://www.thelivingcoast.org/programs-events-upcoming-events/eagle-presentation/2023-10-22/
CATEGORIES:Animal Presentation
ATTACH;FMTTYPE=image/png:https://www.thelivingcoast.org/wp-content/uploads/2023/06/member-images.png
END:VEVENT
BEGIN:VEVENT
DTSTART;TZID=America/Los_Angeles:20231021T143000
DTEND;TZID=America/Los_Angeles:20231021T150000
DTSTAMP:20260425T062939
CREATED:20230801T190309Z
LAST-MODIFIED:20250226T191156Z
UID:10004624-1697898600-1697900400@www.thelivingcoast.org
SUMMARY:Sea Turtle Presentation
DESCRIPTION:Join us at Turtle Lagoon to learn about the sea turtles we can find in our bay! \nThese presentations occur Wednesday through Sunday at 2:30 PM.
URL:https://www.thelivingcoast.org/programs-events-upcoming-events/sea-turtle-presentation/2023-10-21/
CATEGORIES:Animal Presentation
ATTACH;FMTTYPE=image/jpeg:https://www.thelivingcoast.org/wp-content/uploads/2022/11/IMG_7380-high-res.jpg
END:VEVENT
BEGIN:VEVENT
DTSTART;TZID=America/Los_Angeles:20231021T133000
DTEND;TZID=America/Los_Angeles:20231021T140000
DTSTAMP:20260425T062939
CREATED:20230801T190848Z
LAST-MODIFIED:20250226T190351Z
UID:10005481-1697895000-1697896800@www.thelivingcoast.org
SUMMARY:Shark & Ray Presentation
DESCRIPTION:Join us at the Shark & Ray Experience to learn about the local species of sharks\, rays\, and more! \nThese presentations occur Wednesday through Sunday at 1:30 PM.
URL:https://www.thelivingcoast.org/programs-events-upcoming-events/shark-ray-presentation/2023-10-21/
CATEGORIES:Animal Presentation
ATTACH;FMTTYPE=image/jpeg:https://www.thelivingcoast.org/wp-content/uploads/2022/03/IMG_1023.jpg
END:VEVENT
BEGIN:VEVENT
DTSTART;TZID=America/Los_Angeles:20231021T113000
DTEND;TZID=America/Los_Angeles:20231021T120000
DTSTAMP:20260425T062939
CREATED:20230602T204524Z
LAST-MODIFIED:20251231T003342Z
UID:10003952-1697887800-1697889600@www.thelivingcoast.org
SUMMARY:Sweetwater Safari Hike
DESCRIPTION:Join us every Saturday as we explore the Sweetwater Marsh Trail on the San Diego Bay National Wildlife Refuge! We will learn about the history of the Sweetwater Marsh\, the salt marsh ecosystem\, and the plants and wildlife thriving in this protected space. Backpacks with fun activities\, including magnifying glasses and binoculars\, will be available for families to use while on the hike. \n \nCheck-in time: 11:30 am\nDuration: 30-45 Minutes \nMeeting Location: We will meet outside the front doors of the Living Coast Discovery Center located at 1000 Gunpowder Point Drive\, Chula Vista\, CA 91910. \nDriving directions: From the I5 freeway\, exit at E street and head west to the Living Coast Discovery Center parking lot. This hike location is located on a wildlife refuge\, and all visitors must park in the outer lot and take the free Living Coast Discovery Center shuttle. \nSuggested parking: This locations parking lot is located outside of a wildlife refuge. All visitors must take the free shuttle from the parking lot located on Gunpowder Point Drive. This lot is located at Gunpowder Point Drive\, Chula Vista CA 91910. \nRestrooms and Water: The nearest restrooms are located inside the front doors of the Living Coast Discovery Center. You do not have to pay to use the restrooms\, but if visitors choose to enter the facility to visit exhibits they must pay the admission fees. \nHike lengths: This trail is approximately 1 mile in length. \nProgram Supplies:  Please make sure to wear comfortable clothes and shoes for hiking. Bringing a water bottle\, bug protection\, and sun protection are highly recommended. \nHiking level: Easy \nNo pets will be allowed on the hike.
URL:https://www.thelivingcoast.org/programs-events-upcoming-events/sweetwater-safari-hikes/2023-10-21/
LOCATION:Living Coast Discovery Center\, 1000 Gunpowder Point Dr.\, Chula Vista\, CA\, 91910\, United States
CATEGORIES:Hike,Homepage,Trail to Bay
ATTACH;FMTTYPE=image/png:https://www.thelivingcoast.org/wp-content/uploads/2023/06/event-image_sws.png
END:VEVENT
BEGIN:VEVENT
DTSTART;TZID=America/Los_Angeles:20231021T103000
DTEND;TZID=America/Los_Angeles:20231021T110000
DTSTAMP:20260425T062939
CREATED:20230801T190552Z
LAST-MODIFIED:20250228T171230Z
UID:10005023-1697884200-1697886000@www.thelivingcoast.org
SUMMARY:Eagle Presentation
DESCRIPTION:Join us at Eagle Mesa to learn about Betsy\, the bald eagle\, and Dorado\, the golden eagle! \nThese talks occur Wednesday through Sunday at 10:30 AM.
URL:https://www.thelivingcoast.org/programs-events-upcoming-events/eagle-presentation/2023-10-21/
CATEGORIES:Animal Presentation
ATTACH;FMTTYPE=image/png:https://www.thelivingcoast.org/wp-content/uploads/2023/06/member-images.png
END:VEVENT
BEGIN:VEVENT
DTSTART;TZID=America/Los_Angeles:20231021T080000
DTEND;TZID=America/Los_Angeles:20231021T140000
DTSTAMP:20260425T062939
CREATED:20220715T232753Z
LAST-MODIFIED:20220810T231726Z
UID:10004502-1697875200-1697896800@www.thelivingcoast.org
SUMMARY:Sun Coast Farmers Market: Imperial Beach
DESCRIPTION:
URL:https://www.thelivingcoast.org/programs-events-upcoming-events/3rd-saturdays-imperial-beach/2023-10-21/
CATEGORIES:Outreach
END:VEVENT
BEGIN:VEVENT
DTSTART;TZID=America/Los_Angeles:20231020T143000
DTEND;TZID=America/Los_Angeles:20231020T150000
DTSTAMP:20260425T062939
CREATED:20230801T190309Z
LAST-MODIFIED:20250226T191156Z
UID:10004623-1697812200-1697814000@www.thelivingcoast.org
SUMMARY:Sea Turtle Presentation
DESCRIPTION:Join us at Turtle Lagoon to learn about the sea turtles we can find in our bay! \nThese presentations occur Wednesday through Sunday at 2:30 PM.
URL:https://www.thelivingcoast.org/programs-events-upcoming-events/sea-turtle-presentation/2023-10-20/
CATEGORIES:Animal Presentation
ATTACH;FMTTYPE=image/jpeg:https://www.thelivingcoast.org/wp-content/uploads/2022/11/IMG_7380-high-res.jpg
END:VEVENT
BEGIN:VEVENT
DTSTART;TZID=America/Los_Angeles:20231020T133000
DTEND;TZID=America/Los_Angeles:20231020T140000
DTSTAMP:20260425T062939
CREATED:20230801T190848Z
LAST-MODIFIED:20250226T190351Z
UID:10005480-1697808600-1697810400@www.thelivingcoast.org
SUMMARY:Shark & Ray Presentation
DESCRIPTION:Join us at the Shark & Ray Experience to learn about the local species of sharks\, rays\, and more! \nThese presentations occur Wednesday through Sunday at 1:30 PM.
URL:https://www.thelivingcoast.org/programs-events-upcoming-events/shark-ray-presentation/2023-10-20/
CATEGORIES:Animal Presentation
ATTACH;FMTTYPE=image/jpeg:https://www.thelivingcoast.org/wp-content/uploads/2022/03/IMG_1023.jpg
END:VEVENT
BEGIN:VEVENT
DTSTART;TZID=America/Los_Angeles:20231020T103000
DTEND;TZID=America/Los_Angeles:20231020T110000
DTSTAMP:20260425T062939
CREATED:20230801T190552Z
LAST-MODIFIED:20250228T171230Z
UID:10005022-1697797800-1697799600@www.thelivingcoast.org
SUMMARY:Eagle Presentation
DESCRIPTION:Join us at Eagle Mesa to learn about Betsy\, the bald eagle\, and Dorado\, the golden eagle! \nThese talks occur Wednesday through Sunday at 10:30 AM.
URL:https://www.thelivingcoast.org/programs-events-upcoming-events/eagle-presentation/2023-10-20/
CATEGORIES:Animal Presentation
ATTACH;FMTTYPE=image/png:https://www.thelivingcoast.org/wp-content/uploads/2023/06/member-images.png
END:VEVENT
BEGIN:VEVENT
DTSTART;TZID=America/Los_Angeles:20231019T143000
DTEND;TZID=America/Los_Angeles:20231019T150000
DTSTAMP:20260425T062939
CREATED:20230801T190309Z
LAST-MODIFIED:20250226T191156Z
UID:10004622-1697725800-1697727600@www.thelivingcoast.org
SUMMARY:Sea Turtle Presentation
DESCRIPTION:Join us at Turtle Lagoon to learn about the sea turtles we can find in our bay! \nThese presentations occur Wednesday through Sunday at 2:30 PM.
URL:https://www.thelivingcoast.org/programs-events-upcoming-events/sea-turtle-presentation/2023-10-19/
CATEGORIES:Animal Presentation
ATTACH;FMTTYPE=image/jpeg:https://www.thelivingcoast.org/wp-content/uploads/2022/11/IMG_7380-high-res.jpg
END:VEVENT
BEGIN:VEVENT
DTSTART;TZID=America/Los_Angeles:20231019T133000
DTEND;TZID=America/Los_Angeles:20231019T140000
DTSTAMP:20260425T062939
CREATED:20230801T190848Z
LAST-MODIFIED:20250226T190351Z
UID:10005479-1697722200-1697724000@www.thelivingcoast.org
SUMMARY:Shark & Ray Presentation
DESCRIPTION:Join us at the Shark & Ray Experience to learn about the local species of sharks\, rays\, and more! \nThese presentations occur Wednesday through Sunday at 1:30 PM.
URL:https://www.thelivingcoast.org/programs-events-upcoming-events/shark-ray-presentation/2023-10-19/
CATEGORIES:Animal Presentation
ATTACH;FMTTYPE=image/jpeg:https://www.thelivingcoast.org/wp-content/uploads/2022/03/IMG_1023.jpg
END:VEVENT
BEGIN:VEVENT
DTSTART;TZID=America/Los_Angeles:20231019T103000
DTEND;TZID=America/Los_Angeles:20231019T110000
DTSTAMP:20260425T062939
CREATED:20230801T190552Z
LAST-MODIFIED:20250228T171230Z
UID:10005021-1697711400-1697713200@www.thelivingcoast.org
SUMMARY:Eagle Presentation
DESCRIPTION:Join us at Eagle Mesa to learn about Betsy\, the bald eagle\, and Dorado\, the golden eagle! \nThese talks occur Wednesday through Sunday at 10:30 AM.
URL:https://www.thelivingcoast.org/programs-events-upcoming-events/eagle-presentation/2023-10-19/
CATEGORIES:Animal Presentation
ATTACH;FMTTYPE=image/png:https://www.thelivingcoast.org/wp-content/uploads/2023/06/member-images.png
END:VEVENT
BEGIN:VEVENT
DTSTART;TZID=America/Los_Angeles:20231018T143000
DTEND;TZID=America/Los_Angeles:20231018T150000
DTSTAMP:20260425T062939
CREATED:20230801T190309Z
LAST-MODIFIED:20250226T191156Z
UID:10004621-1697639400-1697641200@www.thelivingcoast.org
SUMMARY:Sea Turtle Presentation
DESCRIPTION:Join us at Turtle Lagoon to learn about the sea turtles we can find in our bay! \nThese presentations occur Wednesday through Sunday at 2:30 PM.
URL:https://www.thelivingcoast.org/programs-events-upcoming-events/sea-turtle-presentation/2023-10-18/
CATEGORIES:Animal Presentation
ATTACH;FMTTYPE=image/jpeg:https://www.thelivingcoast.org/wp-content/uploads/2022/11/IMG_7380-high-res.jpg
END:VEVENT
BEGIN:VEVENT
DTSTART;TZID=America/Los_Angeles:20231018T133000
DTEND;TZID=America/Los_Angeles:20231018T140000
DTSTAMP:20260425T062939
CREATED:20230801T190848Z
LAST-MODIFIED:20250226T190351Z
UID:10005478-1697635800-1697637600@www.thelivingcoast.org
SUMMARY:Shark & Ray Presentation
DESCRIPTION:Join us at the Shark & Ray Experience to learn about the local species of sharks\, rays\, and more! \nThese presentations occur Wednesday through Sunday at 1:30 PM.
URL:https://www.thelivingcoast.org/programs-events-upcoming-events/shark-ray-presentation/2023-10-18/
CATEGORIES:Animal Presentation
ATTACH;FMTTYPE=image/jpeg:https://www.thelivingcoast.org/wp-content/uploads/2022/03/IMG_1023.jpg
END:VEVENT
BEGIN:VEVENT
DTSTART;TZID=America/Los_Angeles:20231018T103000
DTEND;TZID=America/Los_Angeles:20231018T110000
DTSTAMP:20260425T062939
CREATED:20230801T190552Z
LAST-MODIFIED:20250228T171230Z
UID:10005020-1697625000-1697626800@www.thelivingcoast.org
SUMMARY:Eagle Presentation
DESCRIPTION:Join us at Eagle Mesa to learn about Betsy\, the bald eagle\, and Dorado\, the golden eagle! \nThese talks occur Wednesday through Sunday at 10:30 AM.
URL:https://www.thelivingcoast.org/programs-events-upcoming-events/eagle-presentation/2023-10-18/
CATEGORIES:Animal Presentation
ATTACH;FMTTYPE=image/png:https://www.thelivingcoast.org/wp-content/uploads/2023/06/member-images.png
END:VEVENT
BEGIN:VEVENT
DTSTART;TZID=America/Los_Angeles:20231017T080000
DTEND;TZID=America/Los_Angeles:20231017T170000
DTSTAMP:20260425T062939
CREATED:20230801T191133Z
LAST-MODIFIED:20230801T191133Z
UID:10004031-1697529600-1697562000@www.thelivingcoast.org
SUMMARY:CLOSED MONDAY AND TUESDAY
DESCRIPTION:
URL:https://www.thelivingcoast.org/programs-events-upcoming-events/closed-monday-and-tuesday/2023-10-17/
END:VEVENT
BEGIN:VEVENT
DTSTART;TZID=America/Los_Angeles:20231016T080000
DTEND;TZID=America/Los_Angeles:20231016T170000
DTSTAMP:20260425T062939
CREATED:20230801T191133Z
LAST-MODIFIED:20230801T191133Z
UID:10004030-1697443200-1697475600@www.thelivingcoast.org
SUMMARY:CLOSED MONDAY AND TUESDAY
DESCRIPTION:
URL:https://www.thelivingcoast.org/programs-events-upcoming-events/closed-monday-and-tuesday/2023-10-16/
END:VEVENT
BEGIN:VEVENT
DTSTART;TZID=America/Los_Angeles:20231015T173000
DTEND;TZID=America/Los_Angeles:20231015T190000
DTSTAMP:20260425T062939
CREATED:20230914T200742Z
LAST-MODIFIED:20231003T193053Z
UID:10004367-1697391000-1697396400@www.thelivingcoast.org
SUMMARY:Trail to Bay Hike: Sunset Bat Walk
DESCRIPTION:Join us for a sunset hike on the Sweetwater River Trail where we will discover different species of bats and learn about the native plants and animals thriving in this protected space. The Sweetwater River Trail is located on the San Diego National Wildlife Refuge. The hike begins at the Sweetwater River Bridge and continues on to a looped trail. \n\n \n\n\nDate: October 15\, 2023\nCheck-in time: 5:30 pm \nDuration: 1.5 hours\n\n\n\nMeeting Location: We will meet at the new trail parking lot at Millar Ranch Rd\, Spring Valley\, CA 92019. Look for the large flag with the Trail to Bay Challenge logo! \nDriving directions: Take 94 East until it turns into Campo Road. Turn right onto CA-94 E/Campo Road. Turn right onto Millar Ranch Rd. The parking area will be on your right. \nSuggested parking: Parking is available at the new trail parking lot. There is additional parking available on the street at no cost. If you park on the street\, you will need to walk a short distance to join the group. \nNearest Trailhead and Restrooms to meeting location: No restrooms or water stations are available on the trail. The nearest restrooms will be in the strip mall down the street. Please plan accordingly. \nHike length: This hike is about 2 miles and easy to moderate in difficulty. The trail is mostly flat but does include some rocky terrain/erosion\, some uphill portions\, and a small wooden bridge that we will cross. \nProgram Supplies: Please make sure to wear comfortable clothes and shoes for hiking. Living Coast staff will be wearing headlamps but bringing a flashlight or headlamp is highly recommended. Please bring water and bug protection! \nHiking level: Easy/Moderate \n  \nNo pets will be allowed on the hike. \nThis is a limited capacity hike and will be capped at 40 participants.
URL:https://www.thelivingcoast.org/programs-events-upcoming-events/trail-to-bay-hike-sunset-bat-walk/
LOCATION:Sweetwater River Trail
CATEGORIES:Hike,Homepage,Trail to Bay
ATTACH;FMTTYPE=image/png:https://www.thelivingcoast.org/wp-content/uploads/2023/09/bat-hike-oct-15-1.png
END:VEVENT
BEGIN:VEVENT
DTSTART;TZID=America/Los_Angeles:20231015T143000
DTEND;TZID=America/Los_Angeles:20231015T150000
DTSTAMP:20260425T062939
CREATED:20230801T190309Z
LAST-MODIFIED:20250226T191156Z
UID:10004620-1697380200-1697382000@www.thelivingcoast.org
SUMMARY:Sea Turtle Presentation
DESCRIPTION:Join us at Turtle Lagoon to learn about the sea turtles we can find in our bay! \nThese presentations occur Wednesday through Sunday at 2:30 PM.
URL:https://www.thelivingcoast.org/programs-events-upcoming-events/sea-turtle-presentation/2023-10-15/
CATEGORIES:Animal Presentation
ATTACH;FMTTYPE=image/jpeg:https://www.thelivingcoast.org/wp-content/uploads/2022/11/IMG_7380-high-res.jpg
END:VEVENT
BEGIN:VEVENT
DTSTART;TZID=America/Los_Angeles:20231015T133000
DTEND;TZID=America/Los_Angeles:20231015T140000
DTSTAMP:20260425T062939
CREATED:20230801T190848Z
LAST-MODIFIED:20250226T190351Z
UID:10005477-1697376600-1697378400@www.thelivingcoast.org
SUMMARY:Shark & Ray Presentation
DESCRIPTION:Join us at the Shark & Ray Experience to learn about the local species of sharks\, rays\, and more! \nThese presentations occur Wednesday through Sunday at 1:30 PM.
URL:https://www.thelivingcoast.org/programs-events-upcoming-events/shark-ray-presentation/2023-10-15/
CATEGORIES:Animal Presentation
ATTACH;FMTTYPE=image/jpeg:https://www.thelivingcoast.org/wp-content/uploads/2022/03/IMG_1023.jpg
END:VEVENT
BEGIN:VEVENT
DTSTART;TZID=America/Los_Angeles:20231015T113000
DTEND;TZID=America/Los_Angeles:20231015T123000
DTSTAMP:20260425T062939
CREATED:20231013T201516Z
LAST-MODIFIED:20250311T182448Z
UID:10005381-1697369400-1697373000@www.thelivingcoast.org
SUMMARY:Compost Workshop
DESCRIPTION:Compost Workshops\nOffered every Sunday at 11:30 AM.\nComposting turns organic waste that would end up in a landfill into nutrient-rich soil. Lower your carbon footprint\, divert waste\, and enhance your garden all with one solution. Join us for a one-hour workshop to get you started and answer questions. (Included with cost of admission) \nOn the first Sunday of the month\, the compost workshop will be offered in English and Spanish. On the last Sunday of the month\, the workshop will cover Vermicomposting! \nCompost bins are available for $35 to Chula Vista residents who have attended one of the City’s composting workshops or the Master Composter Course. \nChula Vista residents can receive free admission to the Living Coast on select Sundays! Click here to sign up.
URL:https://www.thelivingcoast.org/programs-events-upcoming-events/compost-workshop/2023-10-15/
CATEGORIES:Composting Workshops,Homepage
ATTACH;FMTTYPE=image/png:https://www.thelivingcoast.org/wp-content/uploads/2022/08/compost.png
END:VEVENT
BEGIN:VEVENT
DTSTART;TZID=America/Los_Angeles:20231015T103000
DTEND;TZID=America/Los_Angeles:20231015T110000
DTSTAMP:20260425T062939
CREATED:20230801T190552Z
LAST-MODIFIED:20250228T171230Z
UID:10005019-1697365800-1697367600@www.thelivingcoast.org
SUMMARY:Eagle Presentation
DESCRIPTION:Join us at Eagle Mesa to learn about Betsy\, the bald eagle\, and Dorado\, the golden eagle! \nThese talks occur Wednesday through Sunday at 10:30 AM.
URL:https://www.thelivingcoast.org/programs-events-upcoming-events/eagle-presentation/2023-10-15/
CATEGORIES:Animal Presentation
ATTACH;FMTTYPE=image/png:https://www.thelivingcoast.org/wp-content/uploads/2023/06/member-images.png
END:VEVENT
BEGIN:VEVENT
DTSTART;TZID=America/Los_Angeles:20231014T143000
DTEND;TZID=America/Los_Angeles:20231014T150000
DTSTAMP:20260425T062939
CREATED:20230801T190309Z
LAST-MODIFIED:20250226T191156Z
UID:10004619-1697293800-1697295600@www.thelivingcoast.org
SUMMARY:Sea Turtle Presentation
DESCRIPTION:Join us at Turtle Lagoon to learn about the sea turtles we can find in our bay! \nThese presentations occur Wednesday through Sunday at 2:30 PM.
URL:https://www.thelivingcoast.org/programs-events-upcoming-events/sea-turtle-presentation/2023-10-14/
CATEGORIES:Animal Presentation
ATTACH;FMTTYPE=image/jpeg:https://www.thelivingcoast.org/wp-content/uploads/2022/11/IMG_7380-high-res.jpg
END:VEVENT
BEGIN:VEVENT
DTSTART;TZID=America/Los_Angeles:20231014T133000
DTEND;TZID=America/Los_Angeles:20231014T140000
DTSTAMP:20260425T062939
CREATED:20230801T190848Z
LAST-MODIFIED:20250226T190351Z
UID:10005476-1697290200-1697292000@www.thelivingcoast.org
SUMMARY:Shark & Ray Presentation
DESCRIPTION:Join us at the Shark & Ray Experience to learn about the local species of sharks\, rays\, and more! \nThese presentations occur Wednesday through Sunday at 1:30 PM.
URL:https://www.thelivingcoast.org/programs-events-upcoming-events/shark-ray-presentation/2023-10-14/
CATEGORIES:Animal Presentation
ATTACH;FMTTYPE=image/jpeg:https://www.thelivingcoast.org/wp-content/uploads/2022/03/IMG_1023.jpg
END:VEVENT
BEGIN:VEVENT
DTSTART;TZID=America/Los_Angeles:20231014T113000
DTEND;TZID=America/Los_Angeles:20231014T120000
DTSTAMP:20260425T062939
CREATED:20230602T204524Z
LAST-MODIFIED:20251231T003342Z
UID:10003951-1697283000-1697284800@www.thelivingcoast.org
SUMMARY:Sweetwater Safari Hike
DESCRIPTION:Join us every Saturday as we explore the Sweetwater Marsh Trail on the San Diego Bay National Wildlife Refuge! We will learn about the history of the Sweetwater Marsh\, the salt marsh ecosystem\, and the plants and wildlife thriving in this protected space. Backpacks with fun activities\, including magnifying glasses and binoculars\, will be available for families to use while on the hike. \n \nCheck-in time: 11:30 am\nDuration: 30-45 Minutes \nMeeting Location: We will meet outside the front doors of the Living Coast Discovery Center located at 1000 Gunpowder Point Drive\, Chula Vista\, CA 91910. \nDriving directions: From the I5 freeway\, exit at E street and head west to the Living Coast Discovery Center parking lot. This hike location is located on a wildlife refuge\, and all visitors must park in the outer lot and take the free Living Coast Discovery Center shuttle. \nSuggested parking: This locations parking lot is located outside of a wildlife refuge. All visitors must take the free shuttle from the parking lot located on Gunpowder Point Drive. This lot is located at Gunpowder Point Drive\, Chula Vista CA 91910. \nRestrooms and Water: The nearest restrooms are located inside the front doors of the Living Coast Discovery Center. You do not have to pay to use the restrooms\, but if visitors choose to enter the facility to visit exhibits they must pay the admission fees. \nHike lengths: This trail is approximately 1 mile in length. \nProgram Supplies:  Please make sure to wear comfortable clothes and shoes for hiking. Bringing a water bottle\, bug protection\, and sun protection are highly recommended. \nHiking level: Easy \nNo pets will be allowed on the hike.
URL:https://www.thelivingcoast.org/programs-events-upcoming-events/sweetwater-safari-hikes/2023-10-14/
LOCATION:Living Coast Discovery Center\, 1000 Gunpowder Point Dr.\, Chula Vista\, CA\, 91910\, United States
CATEGORIES:Hike,Homepage,Trail to Bay
ATTACH;FMTTYPE=image/png:https://www.thelivingcoast.org/wp-content/uploads/2023/06/event-image_sws.png
END:VEVENT
BEGIN:VEVENT
DTSTART;TZID=America/Los_Angeles:20231014T103000
DTEND;TZID=America/Los_Angeles:20231014T110000
DTSTAMP:20260425T062939
CREATED:20230801T190552Z
LAST-MODIFIED:20250228T171230Z
UID:10005018-1697279400-1697281200@www.thelivingcoast.org
SUMMARY:Eagle Presentation
DESCRIPTION:Join us at Eagle Mesa to learn about Betsy\, the bald eagle\, and Dorado\, the golden eagle! \nThese talks occur Wednesday through Sunday at 10:30 AM.
URL:https://www.thelivingcoast.org/programs-events-upcoming-events/eagle-presentation/2023-10-14/
CATEGORIES:Animal Presentation
ATTACH;FMTTYPE=image/png:https://www.thelivingcoast.org/wp-content/uploads/2023/06/member-images.png
END:VEVENT
BEGIN:VEVENT
DTSTART;TZID=America/Los_Angeles:20231013T143000
DTEND;TZID=America/Los_Angeles:20231013T150000
DTSTAMP:20260425T062939
CREATED:20230801T190309Z
LAST-MODIFIED:20250226T191156Z
UID:10004618-1697207400-1697209200@www.thelivingcoast.org
SUMMARY:Sea Turtle Presentation
DESCRIPTION:Join us at Turtle Lagoon to learn about the sea turtles we can find in our bay! \nThese presentations occur Wednesday through Sunday at 2:30 PM.
URL:https://www.thelivingcoast.org/programs-events-upcoming-events/sea-turtle-presentation/2023-10-13/
CATEGORIES:Animal Presentation
ATTACH;FMTTYPE=image/jpeg:https://www.thelivingcoast.org/wp-content/uploads/2022/11/IMG_7380-high-res.jpg
END:VEVENT
BEGIN:VEVENT
DTSTART;TZID=America/Los_Angeles:20231013T133000
DTEND;TZID=America/Los_Angeles:20231013T140000
DTSTAMP:20260425T062939
CREATED:20230801T190848Z
LAST-MODIFIED:20250226T190351Z
UID:10005475-1697203800-1697205600@www.thelivingcoast.org
SUMMARY:Shark & Ray Presentation
DESCRIPTION:Join us at the Shark & Ray Experience to learn about the local species of sharks\, rays\, and more! \nThese presentations occur Wednesday through Sunday at 1:30 PM.
URL:https://www.thelivingcoast.org/programs-events-upcoming-events/shark-ray-presentation/2023-10-13/
CATEGORIES:Animal Presentation
ATTACH;FMTTYPE=image/jpeg:https://www.thelivingcoast.org/wp-content/uploads/2022/03/IMG_1023.jpg
END:VEVENT
BEGIN:VEVENT
DTSTART;TZID=America/Los_Angeles:20231013T103000
DTEND;TZID=America/Los_Angeles:20231013T110000
DTSTAMP:20260425T062939
CREATED:20230801T190552Z
LAST-MODIFIED:20250228T171230Z
UID:10005017-1697193000-1697194800@www.thelivingcoast.org
SUMMARY:Eagle Presentation
DESCRIPTION:Join us at Eagle Mesa to learn about Betsy\, the bald eagle\, and Dorado\, the golden eagle! \nThese talks occur Wednesday through Sunday at 10:30 AM.
URL:https://www.thelivingcoast.org/programs-events-upcoming-events/eagle-presentation/2023-10-13/
CATEGORIES:Animal Presentation
ATTACH;FMTTYPE=image/png:https://www.thelivingcoast.org/wp-content/uploads/2023/06/member-images.png
END:VEVENT
BEGIN:VEVENT
DTSTART;TZID=America/Los_Angeles:20231012T143000
DTEND;TZID=America/Los_Angeles:20231012T150000
DTSTAMP:20260425T062939
CREATED:20230801T190309Z
LAST-MODIFIED:20250226T191156Z
UID:10004617-1697121000-1697122800@www.thelivingcoast.org
SUMMARY:Sea Turtle Presentation
DESCRIPTION:Join us at Turtle Lagoon to learn about the sea turtles we can find in our bay! \nThese presentations occur Wednesday through Sunday at 2:30 PM.
URL:https://www.thelivingcoast.org/programs-events-upcoming-events/sea-turtle-presentation/2023-10-12/
CATEGORIES:Animal Presentation
ATTACH;FMTTYPE=image/jpeg:https://www.thelivingcoast.org/wp-content/uploads/2022/11/IMG_7380-high-res.jpg
END:VEVENT
END:VCALENDAR