BEGIN:VCALENDAR
VERSION:2.0
PRODID:-//The Living Coast Discovery Center - ECPv6.15.0//NONSGML v1.0//EN
CALSCALE:GREGORIAN
METHOD:PUBLISH
X-WR-CALNAME:The Living Coast Discovery Center
X-ORIGINAL-URL:https://www.thelivingcoast.org
X-WR-CALDESC:Events for The Living Coast Discovery Center
REFRESH-INTERVAL;VALUE=DURATION:PT1H
X-Robots-Tag:noindex
X-PUBLISHED-TTL:PT1H
BEGIN:VTIMEZONE
TZID:America/Los_Angeles
BEGIN:DAYLIGHT
TZOFFSETFROM:-0800
TZOFFSETTO:-0700
TZNAME:PDT
DTSTART:20230312T100000
END:DAYLIGHT
BEGIN:STANDARD
TZOFFSETFROM:-0700
TZOFFSETTO:-0800
TZNAME:PST
DTSTART:20231105T090000
END:STANDARD
END:VTIMEZONE
BEGIN:VEVENT
DTSTART;TZID=America/Los_Angeles:20230908T143000
DTEND;TZID=America/Los_Angeles:20230908T150000
DTSTAMP:20260420T154812
CREATED:20230801T190309Z
LAST-MODIFIED:20250226T191156Z
UID:10004593-1694183400-1694185200@www.thelivingcoast.org
SUMMARY:Sea Turtle Presentation
DESCRIPTION:Join us at Turtle Lagoon to learn about the sea turtles we can find in our bay! \nThese presentations occur Wednesday through Sunday at 2:30 PM.
URL:https://www.thelivingcoast.org/programs-events-upcoming-events/sea-turtle-presentation/2023-09-08/
LOCATION:CA
CATEGORIES:Animal Presentation
ATTACH;FMTTYPE=image/jpeg:https://www.thelivingcoast.org/wp-content/uploads/2022/11/IMG_7380-high-res.jpg
END:VEVENT
BEGIN:VEVENT
DTSTART;TZID=America/Los_Angeles:20230908T133000
DTEND;TZID=America/Los_Angeles:20230908T140000
DTSTAMP:20260420T154812
CREATED:20230801T190848Z
LAST-MODIFIED:20250226T190351Z
UID:10005452-1694179800-1694181600@www.thelivingcoast.org
SUMMARY:Shark & Ray Presentation
DESCRIPTION:Join us at the Shark & Ray Experience to learn about the local species of sharks\, rays\, and more! \nThese presentations occur Wednesday through Sunday at 1:30 PM.
URL:https://www.thelivingcoast.org/programs-events-upcoming-events/shark-ray-presentation/2023-09-08/
LOCATION:CA
CATEGORIES:Animal Presentation
ATTACH;FMTTYPE=image/jpeg:https://www.thelivingcoast.org/wp-content/uploads/2022/03/IMG_1023.jpg
END:VEVENT
BEGIN:VEVENT
DTSTART;TZID=America/Los_Angeles:20230908T103000
DTEND;TZID=America/Los_Angeles:20230908T110000
DTSTAMP:20260420T154812
CREATED:20230801T190552Z
LAST-MODIFIED:20250228T171230Z
UID:10004994-1694169000-1694170800@www.thelivingcoast.org
SUMMARY:Eagle Presentation
DESCRIPTION:Join us at Eagle Mesa to learn about Betsy\, the bald eagle\, and Dorado\, the golden eagle! \nThese talks occur Wednesday through Sunday at 10:30 AM.
URL:https://www.thelivingcoast.org/programs-events-upcoming-events/eagle-presentation/2023-09-08/
LOCATION:CA
CATEGORIES:Animal Presentation
ATTACH;FMTTYPE=image/png:https://www.thelivingcoast.org/wp-content/uploads/2023/06/member-images.png
END:VEVENT
BEGIN:VEVENT
DTSTART;TZID=America/Los_Angeles:20230907T143000
DTEND;TZID=America/Los_Angeles:20230907T150000
DTSTAMP:20260420T154812
CREATED:20230801T190309Z
LAST-MODIFIED:20250226T191156Z
UID:10004592-1694097000-1694098800@www.thelivingcoast.org
SUMMARY:Sea Turtle Presentation
DESCRIPTION:Join us at Turtle Lagoon to learn about the sea turtles we can find in our bay! \nThese presentations occur Wednesday through Sunday at 2:30 PM.
URL:https://www.thelivingcoast.org/programs-events-upcoming-events/sea-turtle-presentation/2023-09-07/
LOCATION:CA
CATEGORIES:Animal Presentation
ATTACH;FMTTYPE=image/jpeg:https://www.thelivingcoast.org/wp-content/uploads/2022/11/IMG_7380-high-res.jpg
END:VEVENT
BEGIN:VEVENT
DTSTART;TZID=America/Los_Angeles:20230907T133000
DTEND;TZID=America/Los_Angeles:20230907T140000
DTSTAMP:20260420T154812
CREATED:20230801T190848Z
LAST-MODIFIED:20250226T190351Z
UID:10005451-1694093400-1694095200@www.thelivingcoast.org
SUMMARY:Shark & Ray Presentation
DESCRIPTION:Join us at the Shark & Ray Experience to learn about the local species of sharks\, rays\, and more! \nThese presentations occur Wednesday through Sunday at 1:30 PM.
URL:https://www.thelivingcoast.org/programs-events-upcoming-events/shark-ray-presentation/2023-09-07/
LOCATION:CA
CATEGORIES:Animal Presentation
ATTACH;FMTTYPE=image/jpeg:https://www.thelivingcoast.org/wp-content/uploads/2022/03/IMG_1023.jpg
END:VEVENT
BEGIN:VEVENT
DTSTART;TZID=America/Los_Angeles:20230907T103000
DTEND;TZID=America/Los_Angeles:20230907T110000
DTSTAMP:20260420T154812
CREATED:20230801T190552Z
LAST-MODIFIED:20250228T171230Z
UID:10004993-1694082600-1694084400@www.thelivingcoast.org
SUMMARY:Eagle Presentation
DESCRIPTION:Join us at Eagle Mesa to learn about Betsy\, the bald eagle\, and Dorado\, the golden eagle! \nThese talks occur Wednesday through Sunday at 10:30 AM.
URL:https://www.thelivingcoast.org/programs-events-upcoming-events/eagle-presentation/2023-09-07/
LOCATION:CA
CATEGORIES:Animal Presentation
ATTACH;FMTTYPE=image/png:https://www.thelivingcoast.org/wp-content/uploads/2023/06/member-images.png
END:VEVENT
BEGIN:VEVENT
DTSTART;TZID=America/Los_Angeles:20230906T143000
DTEND;TZID=America/Los_Angeles:20230906T150000
DTSTAMP:20260420T154812
CREATED:20230801T190309Z
LAST-MODIFIED:20250226T191156Z
UID:10004591-1694010600-1694012400@www.thelivingcoast.org
SUMMARY:Sea Turtle Presentation
DESCRIPTION:Join us at Turtle Lagoon to learn about the sea turtles we can find in our bay! \nThese presentations occur Wednesday through Sunday at 2:30 PM.
URL:https://www.thelivingcoast.org/programs-events-upcoming-events/sea-turtle-presentation/2023-09-06/
LOCATION:CA
CATEGORIES:Animal Presentation
ATTACH;FMTTYPE=image/jpeg:https://www.thelivingcoast.org/wp-content/uploads/2022/11/IMG_7380-high-res.jpg
END:VEVENT
BEGIN:VEVENT
DTSTART;TZID=America/Los_Angeles:20230906T133000
DTEND;TZID=America/Los_Angeles:20230906T140000
DTSTAMP:20260420T154812
CREATED:20230801T190848Z
LAST-MODIFIED:20250226T190351Z
UID:10005450-1694007000-1694008800@www.thelivingcoast.org
SUMMARY:Shark & Ray Presentation
DESCRIPTION:Join us at the Shark & Ray Experience to learn about the local species of sharks\, rays\, and more! \nThese presentations occur Wednesday through Sunday at 1:30 PM.
URL:https://www.thelivingcoast.org/programs-events-upcoming-events/shark-ray-presentation/2023-09-06/
LOCATION:CA
CATEGORIES:Animal Presentation
ATTACH;FMTTYPE=image/jpeg:https://www.thelivingcoast.org/wp-content/uploads/2022/03/IMG_1023.jpg
END:VEVENT
BEGIN:VEVENT
DTSTART;TZID=America/Los_Angeles:20230906T103000
DTEND;TZID=America/Los_Angeles:20230906T110000
DTSTAMP:20260420T154812
CREATED:20230801T190552Z
LAST-MODIFIED:20250228T171230Z
UID:10004992-1693996200-1693998000@www.thelivingcoast.org
SUMMARY:Eagle Presentation
DESCRIPTION:Join us at Eagle Mesa to learn about Betsy\, the bald eagle\, and Dorado\, the golden eagle! \nThese talks occur Wednesday through Sunday at 10:30 AM.
URL:https://www.thelivingcoast.org/programs-events-upcoming-events/eagle-presentation/2023-09-06/
LOCATION:CA
CATEGORIES:Animal Presentation
ATTACH;FMTTYPE=image/png:https://www.thelivingcoast.org/wp-content/uploads/2023/06/member-images.png
END:VEVENT
BEGIN:VEVENT
DTSTART;TZID=America/Los_Angeles:20230905T080000
DTEND;TZID=America/Los_Angeles:20230905T170000
DTSTAMP:20260420T154812
CREATED:20230801T191133Z
LAST-MODIFIED:20230801T191133Z
UID:10004019-1693900800-1693933200@www.thelivingcoast.org
SUMMARY:CLOSED MONDAY AND TUESDAY
DESCRIPTION:
URL:https://www.thelivingcoast.org/programs-events-upcoming-events/closed-monday-and-tuesday/2023-09-05/
LOCATION:CA
END:VEVENT
BEGIN:VEVENT
DTSTART;TZID=America/Los_Angeles:20230904T080000
DTEND;TZID=America/Los_Angeles:20230904T170000
DTSTAMP:20260420T154812
CREATED:20230801T191133Z
LAST-MODIFIED:20230801T191133Z
UID:10004018-1693814400-1693846800@www.thelivingcoast.org
SUMMARY:CLOSED MONDAY AND TUESDAY
DESCRIPTION:
URL:https://www.thelivingcoast.org/programs-events-upcoming-events/closed-monday-and-tuesday/2023-09-04/
LOCATION:CA
END:VEVENT
BEGIN:VEVENT
DTSTART;TZID=America/Los_Angeles:20230903T143000
DTEND;TZID=America/Los_Angeles:20230903T150000
DTSTAMP:20260420T154812
CREATED:20230801T190309Z
LAST-MODIFIED:20250226T191156Z
UID:10004590-1693751400-1693753200@www.thelivingcoast.org
SUMMARY:Sea Turtle Presentation
DESCRIPTION:Join us at Turtle Lagoon to learn about the sea turtles we can find in our bay! \nThese presentations occur Wednesday through Sunday at 2:30 PM.
URL:https://www.thelivingcoast.org/programs-events-upcoming-events/sea-turtle-presentation/2023-09-03/
LOCATION:CA
CATEGORIES:Animal Presentation
ATTACH;FMTTYPE=image/jpeg:https://www.thelivingcoast.org/wp-content/uploads/2022/11/IMG_7380-high-res.jpg
END:VEVENT
BEGIN:VEVENT
DTSTART;TZID=America/Los_Angeles:20230903T090000
DTEND;TZID=America/Los_Angeles:20230903T110000
DTSTAMP:20260420T154812
CREATED:20230622T193855Z
LAST-MODIFIED:20230622T193855Z
UID:10004561-1693731600-1693738800@www.thelivingcoast.org
SUMMARY:Trail to Bay Hike: Sweetwater Park Trail
DESCRIPTION:Loading…
URL:https://www.thelivingcoast.org/programs-events-upcoming-events/trail-to-bay-hike-sweetwater-park-trail-2/
LOCATION:CA
CATEGORIES:Hike,Trail to Bay
END:VEVENT
BEGIN:VEVENT
DTSTART;TZID=America/Los_Angeles:20230902T143000
DTEND;TZID=America/Los_Angeles:20230902T150000
DTSTAMP:20260420T154812
CREATED:20230801T190309Z
LAST-MODIFIED:20250226T191156Z
UID:10004589-1693665000-1693666800@www.thelivingcoast.org
SUMMARY:Sea Turtle Presentation
DESCRIPTION:Join us at Turtle Lagoon to learn about the sea turtles we can find in our bay! \nThese presentations occur Wednesday through Sunday at 2:30 PM.
URL:https://www.thelivingcoast.org/programs-events-upcoming-events/sea-turtle-presentation/2023-09-02/
LOCATION:CA
CATEGORIES:Animal Presentation
ATTACH;FMTTYPE=image/jpeg:https://www.thelivingcoast.org/wp-content/uploads/2022/11/IMG_7380-high-res.jpg
END:VEVENT
BEGIN:VEVENT
DTSTART;TZID=America/Los_Angeles:20230902T113000
DTEND;TZID=America/Los_Angeles:20230902T120000
DTSTAMP:20260420T154812
CREATED:20221107T223233Z
LAST-MODIFIED:20231125T193928Z
UID:10004541-1693654200-1693656000@www.thelivingcoast.org
SUMMARY:Bilingüe Caminata safari de Sweetwater
DESCRIPTION:Bilingüe Caminata safari de Sweetwater: Primer Sábado del mes 11:30 AM\nDisfrute una caminata guiada interactiva con uno de nuestros educadores de vida silvestre. Aprenderemos sobre la flora y fauna natural y hablaremos sobre la historia del Refugio Nacional de Vida Silvestre de la Bahía de San Diego. Este programa es patrocinado generosamente por U.S Fish and Wildlife Service. Esta caminata cuenta como uno de los requisitos del Trail to Bay Challenge. \nLa dirección:\nLiving Cost Discovery Center\n1000 Gunpowder Point Dr\nChula Vista\, CA \n  \nBilingual Hikes: First Saturday of the month at 11:30 AM  \nEnjoy an interactive\, guided trail hike with one of our wildlife educators. We’ll learn about the natural flora & fauna and talk about the history of the San Diego Bay National Wildlife Refuge. This program is generously sponsored by U.S. Fish and Wildlife Service. This hike counts towards one of the requirements for the Trail to Bay Challenge.
URL:https://www.thelivingcoast.org/programs-events-upcoming-events/caminata-safari-de-sweetwater/2023-09-02/
LOCATION:Living Coast Discovery Center\, 1000 Gunpowder Point Dr.\, Chula Vista\, CA\, 91910\, United States
CATEGORIES:Hike,Trail to Bay
ATTACH;FMTTYPE=image/png:https://www.thelivingcoast.org/wp-content/uploads/2022/11/event-image_sws-bilingual.png
END:VEVENT
BEGIN:VEVENT
DTSTART;TZID=America/Los_Angeles:20230901T143000
DTEND;TZID=America/Los_Angeles:20230901T150000
DTSTAMP:20260420T154812
CREATED:20230801T190309Z
LAST-MODIFIED:20250226T191156Z
UID:10004588-1693578600-1693580400@www.thelivingcoast.org
SUMMARY:Sea Turtle Presentation
DESCRIPTION:Join us at Turtle Lagoon to learn about the sea turtles we can find in our bay! \nThese presentations occur Wednesday through Sunday at 2:30 PM.
URL:https://www.thelivingcoast.org/programs-events-upcoming-events/sea-turtle-presentation/2023-09-01/
LOCATION:CA
CATEGORIES:Animal Presentation
ATTACH;FMTTYPE=image/jpeg:https://www.thelivingcoast.org/wp-content/uploads/2022/11/IMG_7380-high-res.jpg
END:VEVENT
BEGIN:VEVENT
DTSTART;TZID=America/Los_Angeles:20230901T133000
DTEND;TZID=America/Los_Angeles:20230901T140000
DTSTAMP:20260420T154812
CREATED:20230801T190848Z
LAST-MODIFIED:20250226T190351Z
UID:10005449-1693575000-1693576800@www.thelivingcoast.org
SUMMARY:Shark & Ray Presentation
DESCRIPTION:Join us at the Shark & Ray Experience to learn about the local species of sharks\, rays\, and more! \nThese presentations occur Wednesday through Sunday at 1:30 PM.
URL:https://www.thelivingcoast.org/programs-events-upcoming-events/shark-ray-presentation/2023-09-01/
LOCATION:CA
CATEGORIES:Animal Presentation
ATTACH;FMTTYPE=image/jpeg:https://www.thelivingcoast.org/wp-content/uploads/2022/03/IMG_1023.jpg
END:VEVENT
BEGIN:VEVENT
DTSTART;TZID=America/Los_Angeles:20230901T103000
DTEND;TZID=America/Los_Angeles:20230901T110000
DTSTAMP:20260420T154812
CREATED:20230801T190552Z
LAST-MODIFIED:20250228T171230Z
UID:10004991-1693564200-1693566000@www.thelivingcoast.org
SUMMARY:Eagle Presentation
DESCRIPTION:Join us at Eagle Mesa to learn about Betsy\, the bald eagle\, and Dorado\, the golden eagle! \nThese talks occur Wednesday through Sunday at 10:30 AM.
URL:https://www.thelivingcoast.org/programs-events-upcoming-events/eagle-presentation/2023-09-01/
LOCATION:CA
CATEGORIES:Animal Presentation
ATTACH;FMTTYPE=image/png:https://www.thelivingcoast.org/wp-content/uploads/2023/06/member-images.png
END:VEVENT
BEGIN:VEVENT
DTSTART;TZID=America/Los_Angeles:20230831T143000
DTEND;TZID=America/Los_Angeles:20230831T150000
DTSTAMP:20260420T154812
CREATED:20230801T190309Z
LAST-MODIFIED:20250226T191156Z
UID:10004587-1693492200-1693494000@www.thelivingcoast.org
SUMMARY:Sea Turtle Presentation
DESCRIPTION:Join us at Turtle Lagoon to learn about the sea turtles we can find in our bay! \nThese presentations occur Wednesday through Sunday at 2:30 PM.
URL:https://www.thelivingcoast.org/programs-events-upcoming-events/sea-turtle-presentation/2023-08-31/
LOCATION:CA
CATEGORIES:Animal Presentation
ATTACH;FMTTYPE=image/jpeg:https://www.thelivingcoast.org/wp-content/uploads/2022/11/IMG_7380-high-res.jpg
END:VEVENT
BEGIN:VEVENT
DTSTART;TZID=America/Los_Angeles:20230831T133000
DTEND;TZID=America/Los_Angeles:20230831T140000
DTSTAMP:20260420T154812
CREATED:20230801T190848Z
LAST-MODIFIED:20250226T190351Z
UID:10005448-1693488600-1693490400@www.thelivingcoast.org
SUMMARY:Shark & Ray Presentation
DESCRIPTION:Join us at the Shark & Ray Experience to learn about the local species of sharks\, rays\, and more! \nThese presentations occur Wednesday through Sunday at 1:30 PM.
URL:https://www.thelivingcoast.org/programs-events-upcoming-events/shark-ray-presentation/2023-08-31/
LOCATION:CA
CATEGORIES:Animal Presentation
ATTACH;FMTTYPE=image/jpeg:https://www.thelivingcoast.org/wp-content/uploads/2022/03/IMG_1023.jpg
END:VEVENT
BEGIN:VEVENT
DTSTART;TZID=America/Los_Angeles:20230831T103000
DTEND;TZID=America/Los_Angeles:20230831T110000
DTSTAMP:20260420T154812
CREATED:20230801T190552Z
LAST-MODIFIED:20250228T171230Z
UID:10004990-1693477800-1693479600@www.thelivingcoast.org
SUMMARY:Eagle Presentation
DESCRIPTION:Join us at Eagle Mesa to learn about Betsy\, the bald eagle\, and Dorado\, the golden eagle! \nThese talks occur Wednesday through Sunday at 10:30 AM.
URL:https://www.thelivingcoast.org/programs-events-upcoming-events/eagle-presentation/2023-08-31/
LOCATION:CA
CATEGORIES:Animal Presentation
ATTACH;FMTTYPE=image/png:https://www.thelivingcoast.org/wp-content/uploads/2023/06/member-images.png
END:VEVENT
BEGIN:VEVENT
DTSTART;TZID=America/Los_Angeles:20230830T143000
DTEND;TZID=America/Los_Angeles:20230830T150000
DTSTAMP:20260420T154812
CREATED:20230801T190309Z
LAST-MODIFIED:20250226T191156Z
UID:10004586-1693405800-1693407600@www.thelivingcoast.org
SUMMARY:Sea Turtle Presentation
DESCRIPTION:Join us at Turtle Lagoon to learn about the sea turtles we can find in our bay! \nThese presentations occur Wednesday through Sunday at 2:30 PM.
URL:https://www.thelivingcoast.org/programs-events-upcoming-events/sea-turtle-presentation/2023-08-30/
LOCATION:CA
CATEGORIES:Animal Presentation
ATTACH;FMTTYPE=image/jpeg:https://www.thelivingcoast.org/wp-content/uploads/2022/11/IMG_7380-high-res.jpg
END:VEVENT
BEGIN:VEVENT
DTSTART;TZID=America/Los_Angeles:20230830T133000
DTEND;TZID=America/Los_Angeles:20230830T140000
DTSTAMP:20260420T154812
CREATED:20230801T190848Z
LAST-MODIFIED:20250226T190351Z
UID:10005447-1693402200-1693404000@www.thelivingcoast.org
SUMMARY:Shark & Ray Presentation
DESCRIPTION:Join us at the Shark & Ray Experience to learn about the local species of sharks\, rays\, and more! \nThese presentations occur Wednesday through Sunday at 1:30 PM.
URL:https://www.thelivingcoast.org/programs-events-upcoming-events/shark-ray-presentation/2023-08-30/
LOCATION:CA
CATEGORIES:Animal Presentation
ATTACH;FMTTYPE=image/jpeg:https://www.thelivingcoast.org/wp-content/uploads/2022/03/IMG_1023.jpg
END:VEVENT
BEGIN:VEVENT
DTSTART;TZID=America/Los_Angeles:20230830T103000
DTEND;TZID=America/Los_Angeles:20230830T110000
DTSTAMP:20260420T154812
CREATED:20230801T190552Z
LAST-MODIFIED:20250228T171230Z
UID:10004989-1693391400-1693393200@www.thelivingcoast.org
SUMMARY:Eagle Presentation
DESCRIPTION:Join us at Eagle Mesa to learn about Betsy\, the bald eagle\, and Dorado\, the golden eagle! \nThese talks occur Wednesday through Sunday at 10:30 AM.
URL:https://www.thelivingcoast.org/programs-events-upcoming-events/eagle-presentation/2023-08-30/
LOCATION:CA
CATEGORIES:Animal Presentation
ATTACH;FMTTYPE=image/png:https://www.thelivingcoast.org/wp-content/uploads/2023/06/member-images.png
END:VEVENT
BEGIN:VEVENT
DTSTART;TZID=America/Los_Angeles:20230829T080000
DTEND;TZID=America/Los_Angeles:20230829T170000
DTSTAMP:20260420T154812
CREATED:20230801T191133Z
LAST-MODIFIED:20230801T191133Z
UID:10004017-1693296000-1693328400@www.thelivingcoast.org
SUMMARY:CLOSED MONDAY AND TUESDAY
DESCRIPTION:
URL:https://www.thelivingcoast.org/programs-events-upcoming-events/closed-monday-and-tuesday/2023-08-29/
LOCATION:CA
END:VEVENT
BEGIN:VEVENT
DTSTART;TZID=America/Los_Angeles:20230828T080000
DTEND;TZID=America/Los_Angeles:20230828T170000
DTSTAMP:20260420T154812
CREATED:20230801T191133Z
LAST-MODIFIED:20230801T191133Z
UID:10004016-1693209600-1693242000@www.thelivingcoast.org
SUMMARY:CLOSED MONDAY AND TUESDAY
DESCRIPTION:
URL:https://www.thelivingcoast.org/programs-events-upcoming-events/closed-monday-and-tuesday/2023-08-28/
LOCATION:CA
END:VEVENT
BEGIN:VEVENT
DTSTART;TZID=America/Los_Angeles:20230827T143000
DTEND;TZID=America/Los_Angeles:20230827T150000
DTSTAMP:20260420T154812
CREATED:20230801T190309Z
LAST-MODIFIED:20250226T191156Z
UID:10004585-1693146600-1693148400@www.thelivingcoast.org
SUMMARY:Sea Turtle Presentation
DESCRIPTION:Join us at Turtle Lagoon to learn about the sea turtles we can find in our bay! \nThese presentations occur Wednesday through Sunday at 2:30 PM.
URL:https://www.thelivingcoast.org/programs-events-upcoming-events/sea-turtle-presentation/2023-08-27/
LOCATION:CA
CATEGORIES:Animal Presentation
ATTACH;FMTTYPE=image/jpeg:https://www.thelivingcoast.org/wp-content/uploads/2022/11/IMG_7380-high-res.jpg
END:VEVENT
BEGIN:VEVENT
DTSTART;TZID=America/Los_Angeles:20230827T133000
DTEND;TZID=America/Los_Angeles:20230827T140000
DTSTAMP:20260420T154812
CREATED:20230801T190848Z
LAST-MODIFIED:20250226T190351Z
UID:10005446-1693143000-1693144800@www.thelivingcoast.org
SUMMARY:Shark & Ray Presentation
DESCRIPTION:Join us at the Shark & Ray Experience to learn about the local species of sharks\, rays\, and more! \nThese presentations occur Wednesday through Sunday at 1:30 PM.
URL:https://www.thelivingcoast.org/programs-events-upcoming-events/shark-ray-presentation/2023-08-27/
LOCATION:CA
CATEGORIES:Animal Presentation
ATTACH;FMTTYPE=image/jpeg:https://www.thelivingcoast.org/wp-content/uploads/2022/03/IMG_1023.jpg
END:VEVENT
BEGIN:VEVENT
DTSTART;TZID=America/Los_Angeles:20230827T103000
DTEND;TZID=America/Los_Angeles:20230827T110000
DTSTAMP:20260420T154812
CREATED:20230801T190552Z
LAST-MODIFIED:20250228T171230Z
UID:10004988-1693132200-1693134000@www.thelivingcoast.org
SUMMARY:Eagle Presentation
DESCRIPTION:Join us at Eagle Mesa to learn about Betsy\, the bald eagle\, and Dorado\, the golden eagle! \nThese talks occur Wednesday through Sunday at 10:30 AM.
URL:https://www.thelivingcoast.org/programs-events-upcoming-events/eagle-presentation/2023-08-27/
LOCATION:CA
CATEGORIES:Animal Presentation
ATTACH;FMTTYPE=image/png:https://www.thelivingcoast.org/wp-content/uploads/2023/06/member-images.png
END:VEVENT
BEGIN:VEVENT
DTSTART;TZID=America/Los_Angeles:20230826T143000
DTEND;TZID=America/Los_Angeles:20230826T150000
DTSTAMP:20260420T154812
CREATED:20230801T190309Z
LAST-MODIFIED:20250226T191156Z
UID:10004584-1693060200-1693062000@www.thelivingcoast.org
SUMMARY:Sea Turtle Presentation
DESCRIPTION:Join us at Turtle Lagoon to learn about the sea turtles we can find in our bay! \nThese presentations occur Wednesday through Sunday at 2:30 PM.
URL:https://www.thelivingcoast.org/programs-events-upcoming-events/sea-turtle-presentation/2023-08-26/
LOCATION:CA
CATEGORIES:Animal Presentation
ATTACH;FMTTYPE=image/jpeg:https://www.thelivingcoast.org/wp-content/uploads/2022/11/IMG_7380-high-res.jpg
END:VEVENT
END:VCALENDAR