BEGIN:VCALENDAR
VERSION:2.0
PRODID:-//The Living Coast Discovery Center - ECPv6.15.0//NONSGML v1.0//EN
CALSCALE:GREGORIAN
METHOD:PUBLISH
X-WR-CALNAME:The Living Coast Discovery Center
X-ORIGINAL-URL:https://www.thelivingcoast.org
X-WR-CALDESC:Events for The Living Coast Discovery Center
REFRESH-INTERVAL;VALUE=DURATION:PT1H
X-Robots-Tag:noindex
X-PUBLISHED-TTL:PT1H
BEGIN:VTIMEZONE
TZID:America/Los_Angeles
BEGIN:DAYLIGHT
TZOFFSETFROM:-0800
TZOFFSETTO:-0700
TZNAME:PDT
DTSTART:20260308T100000
END:DAYLIGHT
BEGIN:STANDARD
TZOFFSETFROM:-0700
TZOFFSETTO:-0800
TZNAME:PST
DTSTART:20261101T090000
END:STANDARD
END:VTIMEZONE
BEGIN:VEVENT
DTSTART;TZID=America/Los_Angeles:20260307T113000
DTEND;TZID=America/Los_Angeles:20260307T123000
DTSTAMP:20260425T181103
CREATED:20260206T200010Z
LAST-MODIFIED:20260206T200011Z
UID:10008166-1772883000-1772886600@www.thelivingcoast.org
SUMMARY:Sweetwater Safari Hike
DESCRIPTION:Join us every Saturday as we explore the Sweetwater Marsh Trail on the San Diego Bay National Wildlife Refuge! We will learn about the history of the Sweetwater Marsh\, the salt marsh ecosystem\, and the plants and wildlife thriving in this protected space. Backpacks with fun activities\, including magnifying glasses and binoculars\, will be available for families to use while on the hike. \n \nCheck-in time: 11:30 am\nDuration: 30-45 Minutes \nMeeting Location: We will meet outside the front doors of the Living Coast Discovery Center located at 1000 Gunpowder Point Drive\, Chula Vista\, CA 91910. \nDriving directions: From the I5 freeway\, exit at E street and head west to the Living Coast Discovery Center parking lot. This hike location is located on a wildlife refuge\, and all visitors must park in the outer lot and take the free Living Coast Discovery Center shuttle. \nSuggested parking: This locations parking lot is located outside of a wildlife refuge. All visitors must take the free shuttle from the parking lot located on Gunpowder Point Drive. This lot is located at Gunpowder Point Drive\, Chula Vista CA 91910. \nRestrooms and Water: The nearest restrooms are located inside the front doors of the Living Coast Discovery Center. You do not have to pay to use the restrooms\, but if visitors choose to enter the facility to visit exhibits they must pay the admission fees. \nHike lengths: This trail is approximately 1 mile in length. \nProgram Supplies:  Please make sure to wear comfortable clothes and shoes for hiking. Bringing a water bottle\, bug protection\, and sun protection are highly recommended. \nHiking level: Easy \nNo pets will be allowed on the hike.
URL:https://www.thelivingcoast.org/programs-events-upcoming-events/bilingue-caminata-safari-de-sweetwater-bilingual-sweetwater-safari-2024-03-02-2/2026-03-07/
LOCATION:Living Coast Discovery Center\, 1000 Gunpowder Point Dr.\, Chula Vista\, CA\, 91910\, United States
CATEGORIES:Bilingual,Hike,Trail to Bay
ATTACH;FMTTYPE=image/png:https://www.thelivingcoast.org/wp-content/uploads/2022/11/event-image_sws-bilingual.png
END:VEVENT
BEGIN:VEVENT
DTSTART;TZID=America/Los_Angeles:20260314T113000
DTEND;TZID=America/Los_Angeles:20260314T120000
DTSTAMP:20260425T181103
CREATED:20230602T204524Z
LAST-MODIFIED:20251231T003342Z
UID:10008148-1773487800-1773489600@www.thelivingcoast.org
SUMMARY:Sweetwater Safari Hike
DESCRIPTION:Join us every Saturday as we explore the Sweetwater Marsh Trail on the San Diego Bay National Wildlife Refuge! We will learn about the history of the Sweetwater Marsh\, the salt marsh ecosystem\, and the plants and wildlife thriving in this protected space. Backpacks with fun activities\, including magnifying glasses and binoculars\, will be available for families to use while on the hike. \n \nCheck-in time: 11:30 am\nDuration: 30-45 Minutes \nMeeting Location: We will meet outside the front doors of the Living Coast Discovery Center located at 1000 Gunpowder Point Drive\, Chula Vista\, CA 91910. \nDriving directions: From the I5 freeway\, exit at E street and head west to the Living Coast Discovery Center parking lot. This hike location is located on a wildlife refuge\, and all visitors must park in the outer lot and take the free Living Coast Discovery Center shuttle. \nSuggested parking: This locations parking lot is located outside of a wildlife refuge. All visitors must take the free shuttle from the parking lot located on Gunpowder Point Drive. This lot is located at Gunpowder Point Drive\, Chula Vista CA 91910. \nRestrooms and Water: The nearest restrooms are located inside the front doors of the Living Coast Discovery Center. You do not have to pay to use the restrooms\, but if visitors choose to enter the facility to visit exhibits they must pay the admission fees. \nHike lengths: This trail is approximately 1 mile in length. \nProgram Supplies:  Please make sure to wear comfortable clothes and shoes for hiking. Bringing a water bottle\, bug protection\, and sun protection are highly recommended. \nHiking level: Easy \nNo pets will be allowed on the hike.
URL:https://www.thelivingcoast.org/programs-events-upcoming-events/sweetwater-safari-hikes/2026-03-14/
LOCATION:Living Coast Discovery Center\, 1000 Gunpowder Point Dr.\, Chula Vista\, CA\, 91910\, United States
CATEGORIES:Hike,Homepage,Trail to Bay
ATTACH;FMTTYPE=image/png:https://www.thelivingcoast.org/wp-content/uploads/2023/06/event-image_sws.png
END:VEVENT
BEGIN:VEVENT
DTSTART;TZID=America/Los_Angeles:20260321T090000
DTEND;TZID=America/Los_Angeles:20260321T110000
DTSTAMP:20260425T181103
CREATED:20260303T203800Z
LAST-MODIFIED:20260303T203800Z
UID:10008170-1774083600-1774090800@www.thelivingcoast.org
SUMMARY:Plant Hike at Rice Canyon
DESCRIPTION:Join us as we explore the plants of Rice Canyon Trail! This trail showcases some of the amazing native wildlife found in Chula Vista. We will look at native plant adaptations\, animal tracks\, and the trailhead succulent garden! \nDate: Saturday\, March 21\nTime: 9:00 – 11:00 AM\nLocation: Rice Canyon \n \nMeeting Location: We will meet on the west side of the parking lot at 1242 Cima Del Rey\, Chula Vista\, CA 91910. See attached map! Look for the large flag with the Trail to Bay Challenge logo! \nDriving directions: From 805 South\, take the Bonita Road exit. Turn left onto Bonita Road and continue approximately 2.2 miles. Turn right onto Otay Lakes Road and continue approximately 1.3 miles. Turn right onto Avenida Del Rey\, then turn left onto N Rancho Del Rey Parkway. In approximately .4 mile\, the entrance to Rice Canyon Open Space Preserve will be on the right.  Suggested parking: This park offers a dirt/gravel lot with limited spaces. This lot is located at 1242 Cima Del Rey\, Chula Vista\, CA 91910 \nRestrooms and Water: This location does not offer restrooms or water\, so please plan accordingly. The closest restrooms would be in the park across the street. \nHike length: 1 mile out and back along a straight trail \nTrail Difficulty Level: Easy – The trail consists of a wide\, flat dirt path accessible to strollers and guests of all ages.
URL:https://www.thelivingcoast.org/programs-events-upcoming-events/plant-hike-at-rice-canyon/
LOCATION:Rice Canyon
CATEGORIES:Hike,Homepage,Trail to Bay
ATTACH;FMTTYPE=image/png:https://www.thelivingcoast.org/wp-content/uploads/2023/09/event-image_ttb-.png
END:VEVENT
BEGIN:VEVENT
DTSTART;TZID=America/Los_Angeles:20260321T113000
DTEND;TZID=America/Los_Angeles:20260321T120000
DTSTAMP:20260425T181103
CREATED:20230602T204524Z
LAST-MODIFIED:20251231T003342Z
UID:10008149-1774092600-1774094400@www.thelivingcoast.org
SUMMARY:Sweetwater Safari Hike
DESCRIPTION:Join us every Saturday as we explore the Sweetwater Marsh Trail on the San Diego Bay National Wildlife Refuge! We will learn about the history of the Sweetwater Marsh\, the salt marsh ecosystem\, and the plants and wildlife thriving in this protected space. Backpacks with fun activities\, including magnifying glasses and binoculars\, will be available for families to use while on the hike. \n \nCheck-in time: 11:30 am\nDuration: 30-45 Minutes \nMeeting Location: We will meet outside the front doors of the Living Coast Discovery Center located at 1000 Gunpowder Point Drive\, Chula Vista\, CA 91910. \nDriving directions: From the I5 freeway\, exit at E street and head west to the Living Coast Discovery Center parking lot. This hike location is located on a wildlife refuge\, and all visitors must park in the outer lot and take the free Living Coast Discovery Center shuttle. \nSuggested parking: This locations parking lot is located outside of a wildlife refuge. All visitors must take the free shuttle from the parking lot located on Gunpowder Point Drive. This lot is located at Gunpowder Point Drive\, Chula Vista CA 91910. \nRestrooms and Water: The nearest restrooms are located inside the front doors of the Living Coast Discovery Center. You do not have to pay to use the restrooms\, but if visitors choose to enter the facility to visit exhibits they must pay the admission fees. \nHike lengths: This trail is approximately 1 mile in length. \nProgram Supplies:  Please make sure to wear comfortable clothes and shoes for hiking. Bringing a water bottle\, bug protection\, and sun protection are highly recommended. \nHiking level: Easy \nNo pets will be allowed on the hike.
URL:https://www.thelivingcoast.org/programs-events-upcoming-events/sweetwater-safari-hikes/2026-03-21/
LOCATION:Living Coast Discovery Center\, 1000 Gunpowder Point Dr.\, Chula Vista\, CA\, 91910\, United States
CATEGORIES:Hike,Homepage,Trail to Bay
ATTACH;FMTTYPE=image/png:https://www.thelivingcoast.org/wp-content/uploads/2023/06/event-image_sws.png
END:VEVENT
BEGIN:VEVENT
DTSTART;TZID=America/Los_Angeles:20260328T113000
DTEND;TZID=America/Los_Angeles:20260328T120000
DTSTAMP:20260425T181103
CREATED:20260324T183117Z
LAST-MODIFIED:20260424T185742Z
UID:10008150-1774697400-1774699200@www.thelivingcoast.org
SUMMARY:Sweetwater Safari Hike
DESCRIPTION:Join us every Saturday as we explore the Sweetwater Marsh Trail on the San Diego Bay National Wildlife Refuge! We will learn about the history of the Sweetwater Marsh\, the salt marsh ecosystem\, and the plants and wildlife thriving in this protected space. Backpacks with fun activities\, including magnifying glasses and binoculars\, will be available for families to use while on the hike. \n \nCheck-in time: 11:30 am\nDuration: 30-45 Minutes \nMeeting Location: We will meet outside the front doors of the Living Coast Discovery Center located at 1000 Gunpowder Point Drive\, Chula Vista\, CA 91910. \nDriving directions: From the I5 freeway\, exit at E street and head west to the Living Coast Discovery Center parking lot. This hike location is located on a wildlife refuge\, and all visitors must park in the outer lot and take the free Living Coast Discovery Center shuttle. \nSuggested parking: This locations parking lot is located outside of a wildlife refuge. All visitors must take the free shuttle from the parking lot located on Gunpowder Point Drive. This lot is located at Gunpowder Point Drive\, Chula Vista CA 91910. \nRestrooms and Water: The nearest restrooms are located inside the front doors of the Living Coast Discovery Center. You do not have to pay to use the restrooms\, but if visitors choose to enter the facility to visit exhibits they must pay the admission fees. \nHike lengths: This trail is approximately 1 mile in length. \nProgram Supplies:  Please make sure to wear comfortable clothes and shoes for hiking. Bringing a water bottle\, bug protection\, and sun protection are highly recommended. \nHiking level: Easy \nNo pets will be allowed on the hike.
URL:https://www.thelivingcoast.org/programs-events-upcoming-events/sweetwater-safari-hikes-3/2026-03-28/
LOCATION:Living Coast Discovery Center\, 1000 Gunpowder Point Dr.\, Chula Vista\, CA\, 91910\, United States
CATEGORIES:Hike,Homepage,Trail to Bay
ATTACH;FMTTYPE=image/png:https://www.thelivingcoast.org/wp-content/uploads/2023/06/event-image_sws.png
END:VEVENT
END:VCALENDAR