BEGIN:VCALENDAR
VERSION:2.0
PRODID:-//The Living Coast Discovery Center - ECPv6.15.0//NONSGML v1.0//EN
CALSCALE:GREGORIAN
METHOD:PUBLISH
X-WR-CALNAME:The Living Coast Discovery Center
X-ORIGINAL-URL:https://www.thelivingcoast.org
X-WR-CALDESC:Events for The Living Coast Discovery Center
REFRESH-INTERVAL;VALUE=DURATION:PT1H
X-Robots-Tag:noindex
X-PUBLISHED-TTL:PT1H
BEGIN:VTIMEZONE
TZID:America/Los_Angeles
BEGIN:DAYLIGHT
TZOFFSETFROM:-0800
TZOFFSETTO:-0700
TZNAME:PDT
DTSTART:20240310T100000
END:DAYLIGHT
BEGIN:STANDARD
TZOFFSETFROM:-0700
TZOFFSETTO:-0800
TZNAME:PST
DTSTART:20241103T090000
END:STANDARD
END:VTIMEZONE
BEGIN:VEVENT
DTSTART;TZID=America/Los_Angeles:20240907T113000
DTEND;TZID=America/Los_Angeles:20240907T123000
DTSTAMP:20260422T024248
CREATED:20240116T201445Z
LAST-MODIFIED:20251231T003939Z
UID:10005836-1725708600-1725712200@www.thelivingcoast.org
SUMMARY:Caminata safari de Sweetwater Bilingüe | Bilingual Sweetwater Safari Hike
DESCRIPTION:¡Acompáñenos todos los sábados a explorar el sendero de la marisma de Sweetwater en el refugio silvestre nacional de la bahía de San Diego! Aprenderemos sobre la historia de la marisma de Sweetwater\, el ecosistema de la marisma salada\, y las plantas y vida silvestre que prospera en este espacio protegido. Mochilas con actividades divertidas\, incluyendo lupas y binoculares\, serán disponibles para que las familias participantes lo usen mientras estén en la caminata. \n \nHora de check-in: 11:30 am\nDuración: 30-45 minutos\nLugar de reunión: Nos reuniremos afuera de las puertas de entrada al Living Coast Discovery Center localizado en 1000 Gunpowder Point Drive\, Chula Vista\, CA 91910. \nEstacionamiento recomendado: El estacionamiento está localizado afuera del refugio nacional. Todos los participantes deben tomar el transporte gratis del estacionamiento localizado en Gunpowder Point Drive. Este lote está localizado en Gunpowder Point Drive\, Chula Vista CA 91910. \nBaños y agua: Los baños más cercanos están localizados adentro de las puertas de entrada al Living Coast Discovery Center. No tiene que pagar para usar el baño\, pero si los participantes eligen entrar a la instalación para visitar las exhibiciones\, deben pagar boleto de admisión. \nLongitud de la caminata: El sendero es de aproximadamente 1 milla. \nArtículos del programa: Por favor use zapatos y ropa cómoda para caminata. Le recomendamos traer botella de agua\, protección contra los insectos\, y protección contra el sol. \nNivel de la caminata: Fácil \nLas mascotas no son permitidas en esta caminata. \n____________________________________________________________________________________ \nJoin us every Saturday as we explore the Sweetwater Marsh Trail on the San Diego Bay National Wildlife Refuge! We will learn about the history of the Sweetwater Marsh\, the salt marsh ecosystem\, and the plants and wildlife thriving in this protected space. Backpacks with fun activities\, including magnifying glasses and binoculars\, will be available for families to use while on the hike. \n \nCheck-in time: 11:30 am\nDuration: 30-45 Minutes \nMeeting Location: We will meet outside the front doors of the Living Coast Discovery Center located at 1000 Gunpowder Point Drive\, Chula Vista\, CA 91910. \nDriving directions: From the I5 freeway\, exit at E street and head west to the Living Coast Discovery Center parking lot. This hike location is located on a wildlife refuge\, and all visitors must park in the outer lot and take the free Living Coast Discovery Center shuttle. \nSuggested parking: This locations parking lot is located outside of a wildlife refuge. All visitors must take the free shuttle from the parking lot located on Gunpowder Point Drive. This lot is located at Gunpowder Point Drive\, Chula Vista CA 91910. \nRestrooms and Water: The nearest restrooms are located inside the front doors of the Living Coast Discovery Center. You do not have to pay to use the restrooms\, but if visitors choose to enter the facility to visit exhibits they must pay the admission fees. \nHike lengths: This trail is approximately 1 mile in length. \nProgram Supplies:  Please make sure to wear comfortable clothes and shoes for hiking. Bringing a water bottle\, bug protection\, and sun protection are highly recommended. \nHiking level: Easy \nNo pets will be allowed on the hike.
URL:https://www.thelivingcoast.org/programs-events-upcoming-events/bilingue-caminata-safari-de-sweetwater-bilingual-sweetwater-safari-2024-03-02/2024-09-07/
LOCATION:Living Coast Discovery Center\, 1000 Gunpowder Point Dr.\, Chula Vista\, CA\, 91910\, United States
CATEGORIES:Bilingual,Hike,Trail to Bay
ATTACH;FMTTYPE=image/png:https://www.thelivingcoast.org/wp-content/uploads/2022/11/event-image_sws-bilingual.png
END:VEVENT
BEGIN:VEVENT
DTSTART;TZID=America/Los_Angeles:20240914T084500
DTEND;TZID=America/Los_Angeles:20240914T110000
DTSTAMP:20260422T024248
CREATED:20240820T231027Z
LAST-MODIFIED:20240911T171832Z
UID:10005950-1726303500-1726311600@www.thelivingcoast.org
SUMMARY:*CANCELED* Watershed Walk at Tijuana River Valley Regional Park
DESCRIPTION:This event has been canceled in response to local agencies’ concern over hazardous gas levels in the region. Please check back for news of rescheduled events at this location\, and we’d love to see you at the Living Coast for our Sweetwater Safari instead!
URL:https://www.thelivingcoast.org/programs-events-upcoming-events/trail-to-bay-hike-watershed-walk-at-tijuana-river-valley-regional-park/
LOCATION:Tijuana River Regional Park\, Park 2721 Monument Road\, San Diego\, CA\, 92154\, United States
CATEGORIES:Bilingual,Hike,Homepage,Latino Conservation Week,Trail to Bay
ATTACH;FMTTYPE=image/png:https://www.thelivingcoast.org/wp-content/uploads/2024/08/LCW_2024.png
END:VEVENT
BEGIN:VEVENT
DTSTART;TZID=America/Los_Angeles:20240914T113000
DTEND;TZID=America/Los_Angeles:20240914T120000
DTSTAMP:20260422T024248
CREATED:20230602T204524Z
LAST-MODIFIED:20251231T003342Z
UID:10003985-1726313400-1726315200@www.thelivingcoast.org
SUMMARY:Sweetwater Safari Hike
DESCRIPTION:Join us every Saturday as we explore the Sweetwater Marsh Trail on the San Diego Bay National Wildlife Refuge! We will learn about the history of the Sweetwater Marsh\, the salt marsh ecosystem\, and the plants and wildlife thriving in this protected space. Backpacks with fun activities\, including magnifying glasses and binoculars\, will be available for families to use while on the hike. \n \nCheck-in time: 11:30 am\nDuration: 30-45 Minutes \nMeeting Location: We will meet outside the front doors of the Living Coast Discovery Center located at 1000 Gunpowder Point Drive\, Chula Vista\, CA 91910. \nDriving directions: From the I5 freeway\, exit at E street and head west to the Living Coast Discovery Center parking lot. This hike location is located on a wildlife refuge\, and all visitors must park in the outer lot and take the free Living Coast Discovery Center shuttle. \nSuggested parking: This locations parking lot is located outside of a wildlife refuge. All visitors must take the free shuttle from the parking lot located on Gunpowder Point Drive. This lot is located at Gunpowder Point Drive\, Chula Vista CA 91910. \nRestrooms and Water: The nearest restrooms are located inside the front doors of the Living Coast Discovery Center. You do not have to pay to use the restrooms\, but if visitors choose to enter the facility to visit exhibits they must pay the admission fees. \nHike lengths: This trail is approximately 1 mile in length. \nProgram Supplies:  Please make sure to wear comfortable clothes and shoes for hiking. Bringing a water bottle\, bug protection\, and sun protection are highly recommended. \nHiking level: Easy \nNo pets will be allowed on the hike.
URL:https://www.thelivingcoast.org/programs-events-upcoming-events/sweetwater-safari-hikes/2024-09-14/
LOCATION:Living Coast Discovery Center\, 1000 Gunpowder Point Dr.\, Chula Vista\, CA\, 91910\, United States
CATEGORIES:Hike,Homepage,Trail to Bay
ATTACH;FMTTYPE=image/png:https://www.thelivingcoast.org/wp-content/uploads/2023/06/event-image_sws.png
END:VEVENT
BEGIN:VEVENT
DTSTART;TZID=America/Los_Angeles:20240921T113000
DTEND;TZID=America/Los_Angeles:20240921T120000
DTSTAMP:20260422T024248
CREATED:20230602T204524Z
LAST-MODIFIED:20251231T003342Z
UID:10003986-1726918200-1726920000@www.thelivingcoast.org
SUMMARY:Sweetwater Safari Hike
DESCRIPTION:Join us every Saturday as we explore the Sweetwater Marsh Trail on the San Diego Bay National Wildlife Refuge! We will learn about the history of the Sweetwater Marsh\, the salt marsh ecosystem\, and the plants and wildlife thriving in this protected space. Backpacks with fun activities\, including magnifying glasses and binoculars\, will be available for families to use while on the hike. \n \nCheck-in time: 11:30 am\nDuration: 30-45 Minutes \nMeeting Location: We will meet outside the front doors of the Living Coast Discovery Center located at 1000 Gunpowder Point Drive\, Chula Vista\, CA 91910. \nDriving directions: From the I5 freeway\, exit at E street and head west to the Living Coast Discovery Center parking lot. This hike location is located on a wildlife refuge\, and all visitors must park in the outer lot and take the free Living Coast Discovery Center shuttle. \nSuggested parking: This locations parking lot is located outside of a wildlife refuge. All visitors must take the free shuttle from the parking lot located on Gunpowder Point Drive. This lot is located at Gunpowder Point Drive\, Chula Vista CA 91910. \nRestrooms and Water: The nearest restrooms are located inside the front doors of the Living Coast Discovery Center. You do not have to pay to use the restrooms\, but if visitors choose to enter the facility to visit exhibits they must pay the admission fees. \nHike lengths: This trail is approximately 1 mile in length. \nProgram Supplies:  Please make sure to wear comfortable clothes and shoes for hiking. Bringing a water bottle\, bug protection\, and sun protection are highly recommended. \nHiking level: Easy \nNo pets will be allowed on the hike.
URL:https://www.thelivingcoast.org/programs-events-upcoming-events/sweetwater-safari-hikes/2024-09-21/
LOCATION:Living Coast Discovery Center\, 1000 Gunpowder Point Dr.\, Chula Vista\, CA\, 91910\, United States
CATEGORIES:Hike,Homepage,Trail to Bay
ATTACH;FMTTYPE=image/png:https://www.thelivingcoast.org/wp-content/uploads/2023/06/event-image_sws.png
END:VEVENT
BEGIN:VEVENT
DTSTART;TZID=America/Los_Angeles:20240922T084500
DTEND;TZID=America/Los_Angeles:20240922T110000
DTSTAMP:20260422T024248
CREATED:20240831T185432Z
LAST-MODIFIED:20240918T190720Z
UID:10004445-1726994700-1727002800@www.thelivingcoast.org
SUMMARY:Trail to Bay Hike: Watershed Walk at Sweetwater River Trail
DESCRIPTION:PLEASE NOTE: We are monitoring local agencies’ concerns over hazardous gas levels in the region and may cancel this hike if advised. Please check back for news as we learn more! \nSweetwater River Trail Hike \nJoin us for a bilingual guided hike\, during which we will discover the different native species that call the San Diego National Wildlife Refuge home! We will also see the distinctive view of San Miguel Mountain and learn about the importance of watersheds. The hike begins at the Sweetwater River Bridge and continues to a looped trail. \nDate: Sunday\, September 22nd\nCheck-in time: 9:00 AM\nDuration: 2 hours \n \nMeeting Location: We will meet at Millar Ranch Rd\, Spring Valley\, CA 92019 at the new trail parking lot. Look for the large flag with the Trail to Bay Challenge logo! \nDriving directions: Take 94 East until it turns into Campo Road. Turn right onto CA-94 E/Campo Road. Turn right onto Millar Ranch Rd. The parking area will be on your right. \nSuggested parking: Parking is available at the new trail parking lot\, and additional parking is available on the street at no cost. If you park on the street\, you must walk a short distance to join the group. \nRestrooms and Water: No restrooms or water stations are available on the trail. The nearest restrooms are in the strip mall down the street. Please plan accordingly. \nHike length: This trail is approximately 2 miles in length. \nProgram Supplies: Please wear comfortable clothes and shoes for hiking. \nHiking level: Moderate \nNo pets will be allowed on the hik \n 
URL:https://www.thelivingcoast.org/programs-events-upcoming-events/trail-to-bay-hike-watershed-walk-at-tijuana-river-valley-regional-park-2/
LOCATION:Sweetwater River Trail
CATEGORIES:Bilingual,Hike,Homepage,Latino Conservation Week,Trail to Bay
ATTACH;FMTTYPE=image/png:https://www.thelivingcoast.org/wp-content/uploads/2024/08/LCW_2024.png
END:VEVENT
BEGIN:VEVENT
DTSTART;TZID=America/Los_Angeles:20240927T110000
DTEND;TZID=America/Los_Angeles:20240927T130000
DTSTAMP:20260422T024248
CREATED:20240821T180110Z
LAST-MODIFIED:20240821T180110Z
UID:10004436-1727434800-1727442000@www.thelivingcoast.org
SUMMARY:Trail to Bay Hike at Free Flight Bird Sanctuary
DESCRIPTION:Join us as we partner with the Free Flight Bird Sanctuary and Palomar College for a trilingual hike in Del Mar! We will have the opportunity to learn about the amazing local wildlife around the San Dieguito Lagoon and River Valley in English\, Spanish\, and American Sign Language. The hike will begin at the Free Flight Bird Sanctuary and continue on the Coast to Crest Trail. \nDate: Friday\, September 27\nCheck-in time: 11:00 AM\nDuration: 2 hours \n \nMeeting Location: We will be meeting outside of the Free Flight Bird Sanctuary at 2132 Jimmy Durante Blvd\, Del Mar. \nDriving directions: Follow I-5 N and take Exit 36 onto Via De La Valle in San Diego. Make a left onto Via De La Valle and then turn left onto Jimmy Durante Blvd. Continue on Jimmy Durante Blvd. until you reach the Free Flight Bird Sanctuary on the right. \nSuggested parking: Parking is available at the Free Flight Bird Sanctuary or across the street in the paid parking lot \nRestrooms and Water: Bathrooms and water station are available at the Free Flight Bird sanctuary. \nHike length: Approximately 2 miles \nProgram Supplies: Please make sure to wear comfortable clothes and shoes for hiking. Bringing a water bottle\, bug protection\, and sun protection are highly recommended. \nHiking level: Easy \nNo pets will be allowed on the hike.
URL:https://www.thelivingcoast.org/programs-events-upcoming-events/trail-to-bay-hike-at-free-flight-bird-sanctuary/
LOCATION:Free Flight Bird Sanctuary\, 2132 Jimmy Durante Blvd\, Del Mar\, CA\, 92014\, United States
CATEGORIES:Hike,Homepage,Trail to Bay
ATTACH;FMTTYPE=image/png:https://www.thelivingcoast.org/wp-content/uploads/2023/09/event-image_ttb-.png
END:VEVENT
BEGIN:VEVENT
DTSTART;TZID=America/Los_Angeles:20240928T113000
DTEND;TZID=America/Los_Angeles:20240928T120000
DTSTAMP:20260422T024248
CREATED:20230602T204524Z
LAST-MODIFIED:20251231T003342Z
UID:10003987-1727523000-1727524800@www.thelivingcoast.org
SUMMARY:Sweetwater Safari Hike
DESCRIPTION:Join us every Saturday as we explore the Sweetwater Marsh Trail on the San Diego Bay National Wildlife Refuge! We will learn about the history of the Sweetwater Marsh\, the salt marsh ecosystem\, and the plants and wildlife thriving in this protected space. Backpacks with fun activities\, including magnifying glasses and binoculars\, will be available for families to use while on the hike. \n \nCheck-in time: 11:30 am\nDuration: 30-45 Minutes \nMeeting Location: We will meet outside the front doors of the Living Coast Discovery Center located at 1000 Gunpowder Point Drive\, Chula Vista\, CA 91910. \nDriving directions: From the I5 freeway\, exit at E street and head west to the Living Coast Discovery Center parking lot. This hike location is located on a wildlife refuge\, and all visitors must park in the outer lot and take the free Living Coast Discovery Center shuttle. \nSuggested parking: This locations parking lot is located outside of a wildlife refuge. All visitors must take the free shuttle from the parking lot located on Gunpowder Point Drive. This lot is located at Gunpowder Point Drive\, Chula Vista CA 91910. \nRestrooms and Water: The nearest restrooms are located inside the front doors of the Living Coast Discovery Center. You do not have to pay to use the restrooms\, but if visitors choose to enter the facility to visit exhibits they must pay the admission fees. \nHike lengths: This trail is approximately 1 mile in length. \nProgram Supplies:  Please make sure to wear comfortable clothes and shoes for hiking. Bringing a water bottle\, bug protection\, and sun protection are highly recommended. \nHiking level: Easy \nNo pets will be allowed on the hike.
URL:https://www.thelivingcoast.org/programs-events-upcoming-events/sweetwater-safari-hikes/2024-09-28/
LOCATION:Living Coast Discovery Center\, 1000 Gunpowder Point Dr.\, Chula Vista\, CA\, 91910\, United States
CATEGORIES:Hike,Homepage,Trail to Bay
ATTACH;FMTTYPE=image/png:https://www.thelivingcoast.org/wp-content/uploads/2023/06/event-image_sws.png
END:VEVENT
END:VCALENDAR