BEGIN:VCALENDAR
VERSION:2.0
PRODID:-//The Living Coast Discovery Center - ECPv6.15.0//NONSGML v1.0//EN
CALSCALE:GREGORIAN
METHOD:PUBLISH
X-WR-CALNAME:The Living Coast Discovery Center
X-ORIGINAL-URL:https://www.thelivingcoast.org
X-WR-CALDESC:Events for The Living Coast Discovery Center
REFRESH-INTERVAL;VALUE=DURATION:PT1H
X-Robots-Tag:noindex
X-PUBLISHED-TTL:PT1H
BEGIN:VTIMEZONE
TZID:America/Los_Angeles
BEGIN:DAYLIGHT
TZOFFSETFROM:-0800
TZOFFSETTO:-0700
TZNAME:PDT
DTSTART:20240310T100000
END:DAYLIGHT
BEGIN:STANDARD
TZOFFSETFROM:-0700
TZOFFSETTO:-0800
TZNAME:PST
DTSTART:20241103T090000
END:STANDARD
END:VTIMEZONE
BEGIN:VEVENT
DTSTART;TZID=America/Los_Angeles:20240810T113000
DTEND;TZID=America/Los_Angeles:20240810T120000
DTSTAMP:20260422T184029
CREATED:20230602T204524Z
LAST-MODIFIED:20251231T003342Z
UID:10003981-1723289400-1723291200@www.thelivingcoast.org
SUMMARY:Sweetwater Safari Hike
DESCRIPTION:Join us every Saturday as we explore the Sweetwater Marsh Trail on the San Diego Bay National Wildlife Refuge! We will learn about the history of the Sweetwater Marsh\, the salt marsh ecosystem\, and the plants and wildlife thriving in this protected space. Backpacks with fun activities\, including magnifying glasses and binoculars\, will be available for families to use while on the hike. \n \nCheck-in time: 11:30 am\nDuration: 30-45 Minutes \nMeeting Location: We will meet outside the front doors of the Living Coast Discovery Center located at 1000 Gunpowder Point Drive\, Chula Vista\, CA 91910. \nDriving directions: From the I5 freeway\, exit at E street and head west to the Living Coast Discovery Center parking lot. This hike location is located on a wildlife refuge\, and all visitors must park in the outer lot and take the free Living Coast Discovery Center shuttle. \nSuggested parking: This locations parking lot is located outside of a wildlife refuge. All visitors must take the free shuttle from the parking lot located on Gunpowder Point Drive. This lot is located at Gunpowder Point Drive\, Chula Vista CA 91910. \nRestrooms and Water: The nearest restrooms are located inside the front doors of the Living Coast Discovery Center. You do not have to pay to use the restrooms\, but if visitors choose to enter the facility to visit exhibits they must pay the admission fees. \nHike lengths: This trail is approximately 1 mile in length. \nProgram Supplies:  Please make sure to wear comfortable clothes and shoes for hiking. Bringing a water bottle\, bug protection\, and sun protection are highly recommended. \nHiking level: Easy \nNo pets will be allowed on the hike.
URL:https://www.thelivingcoast.org/programs-events-upcoming-events/sweetwater-safari-hikes/2024-08-10/
LOCATION:Living Coast Discovery Center\, 1000 Gunpowder Point Dr.\, Chula Vista\, CA\, 91910\, United States
CATEGORIES:Hike,Homepage,Trail to Bay
ATTACH;FMTTYPE=image/png:https://www.thelivingcoast.org/wp-content/uploads/2023/06/event-image_sws.png
END:VEVENT
BEGIN:VEVENT
DTSTART;TZID=America/Los_Angeles:20240817T113000
DTEND;TZID=America/Los_Angeles:20240817T120000
DTSTAMP:20260422T184029
CREATED:20230602T204524Z
LAST-MODIFIED:20251231T003342Z
UID:10003982-1723894200-1723896000@www.thelivingcoast.org
SUMMARY:Sweetwater Safari Hike
DESCRIPTION:Join us every Saturday as we explore the Sweetwater Marsh Trail on the San Diego Bay National Wildlife Refuge! We will learn about the history of the Sweetwater Marsh\, the salt marsh ecosystem\, and the plants and wildlife thriving in this protected space. Backpacks with fun activities\, including magnifying glasses and binoculars\, will be available for families to use while on the hike. \n \nCheck-in time: 11:30 am\nDuration: 30-45 Minutes \nMeeting Location: We will meet outside the front doors of the Living Coast Discovery Center located at 1000 Gunpowder Point Drive\, Chula Vista\, CA 91910. \nDriving directions: From the I5 freeway\, exit at E street and head west to the Living Coast Discovery Center parking lot. This hike location is located on a wildlife refuge\, and all visitors must park in the outer lot and take the free Living Coast Discovery Center shuttle. \nSuggested parking: This locations parking lot is located outside of a wildlife refuge. All visitors must take the free shuttle from the parking lot located on Gunpowder Point Drive. This lot is located at Gunpowder Point Drive\, Chula Vista CA 91910. \nRestrooms and Water: The nearest restrooms are located inside the front doors of the Living Coast Discovery Center. You do not have to pay to use the restrooms\, but if visitors choose to enter the facility to visit exhibits they must pay the admission fees. \nHike lengths: This trail is approximately 1 mile in length. \nProgram Supplies:  Please make sure to wear comfortable clothes and shoes for hiking. Bringing a water bottle\, bug protection\, and sun protection are highly recommended. \nHiking level: Easy \nNo pets will be allowed on the hike.
URL:https://www.thelivingcoast.org/programs-events-upcoming-events/sweetwater-safari-hikes/2024-08-17/
LOCATION:Living Coast Discovery Center\, 1000 Gunpowder Point Dr.\, Chula Vista\, CA\, 91910\, United States
CATEGORIES:Hike,Homepage,Trail to Bay
ATTACH;FMTTYPE=image/png:https://www.thelivingcoast.org/wp-content/uploads/2023/06/event-image_sws.png
END:VEVENT
BEGIN:VEVENT
DTSTART;TZID=America/Los_Angeles:20240818T090000
DTEND;TZID=America/Los_Angeles:20240818T110000
DTSTAMP:20260422T184029
CREATED:20240720T183012Z
LAST-MODIFIED:20240720T183012Z
UID:10005948-1723971600-1723978800@www.thelivingcoast.org
SUMMARY:Trail to Bay: Sweetwater Park Hike
DESCRIPTION:Join us as we explore the Sweetwater Park Trail! Located in Bonita\, this equestrian trail showcases a unique habitat with a mix of native and non-native plant species. In addition to learning about plant adaptations\, expect a mix of sunny and shady areas and traces of native wildlife! \nDate: August 18th\, 2024\nCheck-in time: 9:00 AM\nDuration: 2 hours \n \nMeeting Location: We will meet at Sweetwater Park Trail\, Bonita\, CA 91902\, off Bonita Rd. \nDriving directions: CA 94 E to I 805 S. Take exit 7C onto E St.\, continuing to Bonita Rd. E. Make a U-turn onto Bonita Rd. W to turn into the parking lot \nSuggested parking: There is a parking lot attached to the trailhead near the corner of Bonita Rd. and Plaza Bonita Rd.\, which is only accessible from the westbound side of Bonita Rd. \nRestrooms and Water: There are no restrooms or water stations at this location\, so please plan accordingly! The closest restroom is in the small shopping center across the street from the trailhead parking lot\, 3041-47 Bonita Rd\, Chula Vista\, CA 91910. \nHike lengths: This out-and-back trail is approximately 2 miles in length. \nHiking level: Easy \nPlease wear comfortable clothes and shoes for hiking. It is highly recommended that you bring a water bottle\, bug protection\, and sun protection. No pets will be allowed on the hike.
URL:https://www.thelivingcoast.org/programs-events-upcoming-events/trail-to-bay-sweetwater-park-hike/
LOCATION:Sweetwater Park Trail\, 3041-47 Bonita R\, Chula Vista\, CA\, 91910\, United States
CATEGORIES:Hike,Homepage,Trail to Bay
ATTACH;FMTTYPE=image/png:https://www.thelivingcoast.org/wp-content/uploads/2023/09/event-image_ttb-.png
END:VEVENT
BEGIN:VEVENT
DTSTART;TZID=America/Los_Angeles:20240824T113000
DTEND;TZID=America/Los_Angeles:20240824T120000
DTSTAMP:20260422T184029
CREATED:20230602T204524Z
LAST-MODIFIED:20251231T003342Z
UID:10003983-1724499000-1724500800@www.thelivingcoast.org
SUMMARY:Sweetwater Safari Hike
DESCRIPTION:Join us every Saturday as we explore the Sweetwater Marsh Trail on the San Diego Bay National Wildlife Refuge! We will learn about the history of the Sweetwater Marsh\, the salt marsh ecosystem\, and the plants and wildlife thriving in this protected space. Backpacks with fun activities\, including magnifying glasses and binoculars\, will be available for families to use while on the hike. \n \nCheck-in time: 11:30 am\nDuration: 30-45 Minutes \nMeeting Location: We will meet outside the front doors of the Living Coast Discovery Center located at 1000 Gunpowder Point Drive\, Chula Vista\, CA 91910. \nDriving directions: From the I5 freeway\, exit at E street and head west to the Living Coast Discovery Center parking lot. This hike location is located on a wildlife refuge\, and all visitors must park in the outer lot and take the free Living Coast Discovery Center shuttle. \nSuggested parking: This locations parking lot is located outside of a wildlife refuge. All visitors must take the free shuttle from the parking lot located on Gunpowder Point Drive. This lot is located at Gunpowder Point Drive\, Chula Vista CA 91910. \nRestrooms and Water: The nearest restrooms are located inside the front doors of the Living Coast Discovery Center. You do not have to pay to use the restrooms\, but if visitors choose to enter the facility to visit exhibits they must pay the admission fees. \nHike lengths: This trail is approximately 1 mile in length. \nProgram Supplies:  Please make sure to wear comfortable clothes and shoes for hiking. Bringing a water bottle\, bug protection\, and sun protection are highly recommended. \nHiking level: Easy \nNo pets will be allowed on the hike.
URL:https://www.thelivingcoast.org/programs-events-upcoming-events/sweetwater-safari-hikes/2024-08-24/
LOCATION:Living Coast Discovery Center\, 1000 Gunpowder Point Dr.\, Chula Vista\, CA\, 91910\, United States
CATEGORIES:Hike,Homepage,Trail to Bay
ATTACH;FMTTYPE=image/png:https://www.thelivingcoast.org/wp-content/uploads/2023/06/event-image_sws.png
END:VEVENT
BEGIN:VEVENT
DTSTART;TZID=America/Los_Angeles:20240831T113000
DTEND;TZID=America/Los_Angeles:20240831T120000
DTSTAMP:20260422T184029
CREATED:20230602T204524Z
LAST-MODIFIED:20251231T003342Z
UID:10003984-1725103800-1725105600@www.thelivingcoast.org
SUMMARY:Sweetwater Safari Hike
DESCRIPTION:Join us every Saturday as we explore the Sweetwater Marsh Trail on the San Diego Bay National Wildlife Refuge! We will learn about the history of the Sweetwater Marsh\, the salt marsh ecosystem\, and the plants and wildlife thriving in this protected space. Backpacks with fun activities\, including magnifying glasses and binoculars\, will be available for families to use while on the hike. \n \nCheck-in time: 11:30 am\nDuration: 30-45 Minutes \nMeeting Location: We will meet outside the front doors of the Living Coast Discovery Center located at 1000 Gunpowder Point Drive\, Chula Vista\, CA 91910. \nDriving directions: From the I5 freeway\, exit at E street and head west to the Living Coast Discovery Center parking lot. This hike location is located on a wildlife refuge\, and all visitors must park in the outer lot and take the free Living Coast Discovery Center shuttle. \nSuggested parking: This locations parking lot is located outside of a wildlife refuge. All visitors must take the free shuttle from the parking lot located on Gunpowder Point Drive. This lot is located at Gunpowder Point Drive\, Chula Vista CA 91910. \nRestrooms and Water: The nearest restrooms are located inside the front doors of the Living Coast Discovery Center. You do not have to pay to use the restrooms\, but if visitors choose to enter the facility to visit exhibits they must pay the admission fees. \nHike lengths: This trail is approximately 1 mile in length. \nProgram Supplies:  Please make sure to wear comfortable clothes and shoes for hiking. Bringing a water bottle\, bug protection\, and sun protection are highly recommended. \nHiking level: Easy \nNo pets will be allowed on the hike.
URL:https://www.thelivingcoast.org/programs-events-upcoming-events/sweetwater-safari-hikes/2024-08-31/
LOCATION:Living Coast Discovery Center\, 1000 Gunpowder Point Dr.\, Chula Vista\, CA\, 91910\, United States
CATEGORIES:Hike,Homepage,Trail to Bay
ATTACH;FMTTYPE=image/png:https://www.thelivingcoast.org/wp-content/uploads/2023/06/event-image_sws.png
END:VEVENT
END:VCALENDAR