BEGIN:VCALENDAR
VERSION:2.0
PRODID:-//The Living Coast Discovery Center - ECPv6.15.0//NONSGML v1.0//EN
CALSCALE:GREGORIAN
METHOD:PUBLISH
X-WR-CALNAME:The Living Coast Discovery Center
X-ORIGINAL-URL:https://www.thelivingcoast.org
X-WR-CALDESC:Events for The Living Coast Discovery Center
REFRESH-INTERVAL;VALUE=DURATION:PT1H
X-Robots-Tag:noindex
X-PUBLISHED-TTL:PT1H
BEGIN:VTIMEZONE
TZID:America/Los_Angeles
BEGIN:DAYLIGHT
TZOFFSETFROM:-0800
TZOFFSETTO:-0700
TZNAME:PDT
DTSTART:20220313T100000
END:DAYLIGHT
BEGIN:STANDARD
TZOFFSETFROM:-0700
TZOFFSETTO:-0800
TZNAME:PST
DTSTART:20221106T090000
END:STANDARD
END:VTIMEZONE
BEGIN:VEVENT
DTSTART;TZID=America/Los_Angeles:20220201T080000
DTEND;TZID=America/Los_Angeles:20220228T170000
DTSTAMP:20260425T074414
CREATED:20220119T174537Z
LAST-MODIFIED:20220122T002242Z
UID:10004437-1643702400-1646067600@www.thelivingcoast.org
SUMMARY:San Diego Museum Month
DESCRIPTION:Explore the Living Coast Discovery Center during San Diego Museum Month with 50% off admission. Pick up your pass at a San Diego Macy’s store or one of 75 libraries throughout San Diego County. \nPresent your discount pass during February 2022 for up to four (4) half-price admissions to the Living Coast Discovery Center. Be sure to keep your Museum Month Pass so you can celebrate arts and culture all month long! \n \n*No purchase necessary to receive a free San Diego Museum Month Pass. Cannot be combined with other offers\, coupons or discounts. Limit one pass per person. Not valid for groups larger than 4 people. Half-price is based on full general admission prices. Some restrictions apply\, please call the Living Coast Discovery Center with any questions. Pass cannot be used for Private Animal Encounters\, Membership\, or Special Event Ticket Purchases. \nLearn more about San Diego Museum Month here.
URL:https://www.thelivingcoast.org/programs-events-upcoming-events/san-diego-museum-month/
CATEGORIES:San Diego Museum Month
END:VEVENT
BEGIN:VEVENT
DTSTART;TZID=America/Los_Angeles:20220220T140000
DTEND;TZID=America/Los_Angeles:20220220T150000
DTSTAMP:20260425T074414
CREATED:20220203T182210Z
LAST-MODIFIED:20220203T182921Z
UID:10004454-1645365600-1645369200@www.thelivingcoast.org
SUMMARY:Composting Workshop
DESCRIPTION:Composting turns organic waste that would end up in a landfill into nutrient-rich soil. Lower your carbon footprint\, divert waste\, and enhance your garden all with one solution. Join us for a one-hour workshop to get you started and answer questions. (Free with admission)
URL:https://www.thelivingcoast.org/programs-events-upcoming-events/composting-workshop/2022-02-20/
CATEGORIES:Composting Workshops
END:VEVENT
END:VCALENDAR